BEGIN:VCALENDAR
VERSION:2.0
PRODID:-//ACHEV - ECPv6.2.0.1//NONSGML v1.0//EN
CALSCALE:GREGORIAN
METHOD:PUBLISH
X-WR-CALNAME:ACHEV
X-ORIGINAL-URL:https://achev.org
X-WR-CALDESC:Events for ACHEV
REFRESH-INTERVAL;VALUE=DURATION:PT1H
X-Robots-Tag:noindex
X-PUBLISHED-TTL:PT1H
BEGIN:VTIMEZONE
TZID:America/Denver
BEGIN:DAYLIGHT
TZOFFSETFROM:-0700
TZOFFSETTO:-0600
TZNAME:MDT
DTSTART:20170312T090000
END:DAYLIGHT
BEGIN:STANDARD
TZOFFSETFROM:-0600
TZOFFSETTO:-0700
TZNAME:MST
DTSTART:20171105T080000
END:STANDARD
BEGIN:DAYLIGHT
TZOFFSETFROM:-0700
TZOFFSETTO:-0600
TZNAME:MDT
DTSTART:20180311T090000
END:DAYLIGHT
BEGIN:STANDARD
TZOFFSETFROM:-0600
TZOFFSETTO:-0700
TZNAME:MST
DTSTART:20181104T080000
END:STANDARD
TZID:UTC
BEGIN:STANDARD
TZOFFSETFROM:+0000
TZOFFSETTO:+0000
TZNAME:UTC
DTSTART:20170101T000000
END:STANDARD
TZID:America/Los_Angeles
BEGIN:DAYLIGHT
TZOFFSETFROM:-0800
TZOFFSETTO:-0700
TZNAME:PDT
DTSTART:20170312T100000
END:DAYLIGHT
BEGIN:STANDARD
TZOFFSETFROM:-0700
TZOFFSETTO:-0800
TZNAME:PST
DTSTART:20171105T090000
END:STANDARD
END:VTIMEZONE
BEGIN:VEVENT
DTSTART;TZID=America/Denver:20180112T103000
DTEND;TZID=America/Denver:20180112T120000
DTSTAMP:20260420T120938
CREATED:20171127T045339Z
LAST-MODIFIED:20180108T213517Z
UID:1205-1515753000-1515758400@achev.org
SUMMARY:Rock Painting Class
DESCRIPTION:Sorry\, but you do not have permission to view this content.
URL:https://achev.org/event/rock-painting-class/
LOCATION:Camarillo Grove Park\, 6968 E. Camarillo Springs Road (1\, Camarillo\, CA\, 93012\, United States
CATEGORIES:Field Trip
ORGANIZER;CN="Bonnie%20Adair":MAILTO:bonnieadair@verizon.net
END:VEVENT
BEGIN:VEVENT
DTSTART;TZID=America/Denver:20180111T110000
DTEND;TZID=America/Denver:20180111T130000
DTSTAMP:20260420T120938
CREATED:20171127T042402Z
LAST-MODIFIED:20171127T042402Z
UID:1195-1515668400-1515675600@achev.org
SUMMARY:Ojai Park Day
DESCRIPTION:Sorry\, but you do not have permission to view this content.
URL:https://achev.org/event/ojai-park-day-5/
LOCATION:Libbey Park\, 269 E. Ojai Avenue\, Ojai\, CA\, 93023\, United States
CATEGORIES:Park Day
END:VEVENT
BEGIN:VEVENT
DTSTART;TZID=America/Denver:20180102T113000
DTEND;TZID=America/Denver:20180102T133000
DTSTAMP:20260420T120938
CREATED:20171207T063810Z
LAST-MODIFIED:20171207T063810Z
UID:1246-1514892600-1514899800@achev.org
SUMMARY:Camarillo Park Day & PE
DESCRIPTION:Sorry\, but you do not have permission to view this content.
URL:https://achev.org/event/camarillo-park-day-pe-2/
LOCATION:Pitts Ranch Park\, 1400 Flynn Road\, Camarillo\, CA
CATEGORIES:Park Day
ORGANIZER;CN="Bonnie%20Adair":MAILTO:bonnieadair@verizon.net
END:VEVENT
BEGIN:VEVENT
DTSTART;TZID=America/Denver:20171219T113000
DTEND;TZID=America/Denver:20171219T133000
DTSTAMP:20260420T120938
CREATED:20171205T043734Z
LAST-MODIFIED:20171205T043734Z
UID:1242-1513683000-1513690200@achev.org
SUMMARY:Camarillo Park Day & PE
DESCRIPTION:Sorry\, but you do not have permission to view this content.
URL:https://achev.org/event/camarillo-park-day-pe/
LOCATION:Pitts Ranch Park\, 1400 Flynn Road\, Camarillo\, CA
ORGANIZER;CN="Bonnie%20Adair":MAILTO:bonnieadair@verizon.net
END:VEVENT
BEGIN:VEVENT
DTSTART;TZID=America/Denver:20171216T190000
DTEND;TZID=America/Denver:20171216T223000
DTSTAMP:20260420T120938
CREATED:20171003T170608Z
LAST-MODIFIED:20171115T184437Z
UID:821-1513450800-1513463400@achev.org
SUMMARY:ACHEV Christmas Semi-formal Swing and Ballroom Dance
DESCRIPTION:Sorry\, but you do not have permission to view this content.
URL:https://achev.org/event/achev-christmas-semi-formal-swing-and-ballroom-dance/
LOCATION:House of Dance\, 3007 Bunsen Ave\, Suite E\, Ventura\, CA\, 93003\, United States
CATEGORIES:Dance
END:VEVENT
BEGIN:VEVENT
DTSTART;TZID=America/Denver:20171215T140000
DTEND;TZID=America/Denver:20171215T153000
DTSTAMP:20260420T120938
CREATED:20171130T052253Z
LAST-MODIFIED:20171212T220011Z
UID:1211-1513346400-1513351800@achev.org
SUMMARY:Sorry! Knit/Crochet Group canceled due to fire
DESCRIPTION:Sorry\, but you do not have permission to view this content.
URL:https://achev.org/event/knitting-and-crochet-group/
LOCATION:The Pineda’s\, 178 Furman Avenue\, Ventura\, CA\, 93003
ORGANIZER;CN="Susan%20Pineda":MAILTO:must_sew@yahoo.com
END:VEVENT
BEGIN:VEVENT
DTSTART;TZID=America/Denver:20171208T113000
DTEND;TZID=America/Denver:20171208T123000
DTSTAMP:20260420T120938
CREATED:20171113T021535Z
LAST-MODIFIED:20171113T024014Z
UID:1056-1512732600-1512736200@achev.org
SUMMARY:Nutcracker Outreach Performance & Field Trip Opportunity
DESCRIPTION:Sorry\, but you do not have permission to view this content.
URL:https://achev.org/event/nutcracker-outreach-performance-field-trip-opportunity/
LOCATION:Oxnard Performing Arts Center\, 800 Hobson Way\, Oxnard\, CA\, 93030\, United States
CATEGORIES:Field Trip
ORGANIZER;CN="Patty%20Silver":MAILTO:patricia.silver@icloud.com
END:VEVENT
BEGIN:VEVENT
DTSTART;TZID=America/Denver:20171207T110000
DTEND;TZID=America/Denver:20171207T130000
DTSTAMP:20260420T120938
CREATED:20171127T041656Z
LAST-MODIFIED:20171127T041656Z
UID:1191-1512644400-1512651600@achev.org
SUMMARY:Ojai Park Day
DESCRIPTION:Sorry\, but you do not have permission to view this content.
URL:https://achev.org/event/ojai-park-day-4/
LOCATION:Libbey Park\, 269 E. Ojai Avenue\, Ojai\, CA\, 93023\, United States
CATEGORIES:Park Day
END:VEVENT
BEGIN:VEVENT
DTSTART;TZID=America/Denver:20171205T123000
DTEND;TZID=America/Denver:20171205T140000
DTSTAMP:20260420T120938
CREATED:20171204T080945Z
LAST-MODIFIED:20171204T080945Z
UID:1231-1512477000-1512482400@achev.org
SUMMARY:Board game meetup at Camarillo library (instead of park day\, due to weather)
DESCRIPTION:Sorry\, but you do not have permission to view this content.
URL:https://achev.org/event/board-game-meetup-at-camarillo-library-instead-of-park-day-due-to-weather/
LOCATION:Camarillo Library\, 4101 Las Posas Road\, Camarilllo\, CA\, 93010\, United States
CATEGORIES:Park Day
ORGANIZER;CN="Bonnie%20Adair":MAILTO:bonnieadair@verizon.net
END:VEVENT
BEGIN:VEVENT
DTSTART;TZID=America/Denver:20171127T120000
DTEND;TZID=America/Denver:20171127T150000
DTSTAMP:20260420T120938
CREATED:20171107T045005Z
LAST-MODIFIED:20171107T045005Z
UID:1027-1511784000-1511794800@achev.org
SUMMARY:Beach Day
DESCRIPTION:Sorry\, but you do not have permission to view this content.
URL:https://achev.org/event/beach-day-7/
LOCATION:Marina Park Beach\, 2950 Pierpont Blvd\, Ventura\, CA
CATEGORIES:Beach Day
ORGANIZER;CN="Bonnie%20Adair":MAILTO:bonnieadair@verizon.net
END:VEVENT
BEGIN:VEVENT
DTSTART;TZID=America/Denver:20171121T113000
DTEND;TZID=America/Denver:20171121T133000
DTSTAMP:20260420T120938
CREATED:20171024T231443Z
LAST-MODIFIED:20171107T044722Z
UID:967-1511263800-1511271000@achev.org
SUMMARY:Camarillo Park Day
DESCRIPTION:Sorry\, but you do not have permission to view this content.
URL:https://achev.org/event/camarillo-park-day-6/
LOCATION:CA
CATEGORIES:Park Day
ORGANIZER;CN="Bonnie%20Adair":MAILTO:bonnieadair@verizon.net
END:VEVENT
BEGIN:VEVENT
DTSTART;TZID=America/Denver:20171117T130000
DTEND;TZID=America/Denver:20171117T150000
DTSTAMP:20260420T120938
CREATED:20171113T054248Z
LAST-MODIFIED:20171117T032452Z
UID:1076-1510923600-1510930800@achev.org
SUMMARY:Sorry! Cancelled this month: Knit and Crochet Group
DESCRIPTION:Sorry\, but you do not have permission to view this content.
URL:https://achev.org/event/knit-and-crochet-group-2/
LOCATION:CA
ORGANIZER;CN="Susan%20Pineda":MAILTO:must_sew@yahoo.com
END:VEVENT
BEGIN:VEVENT
DTSTART;TZID=America/Denver:20171113T183000
DTEND;TZID=America/Denver:20171113T200000
DTSTAMP:20260420T120938
CREATED:20171010T032043Z
LAST-MODIFIED:20171010T032043Z
UID:893-1510597800-1510603200@achev.org
SUMMARY:ACHEV Science Fair
DESCRIPTION:Sorry\, but you do not have permission to view this content.
URL:https://achev.org/event/achev-science-fair/
LOCATION:Reality Ventura\, 1954 Goodyear Ave\, Ventura\, CA\, 93003\, United States
ORGANIZER;CN="Andie%20Savard":MAILTO:matt.savard@sbcglobal.net
END:VEVENT
BEGIN:VEVENT
DTSTART;TZID=America/Denver:20171110T100000
DTEND;TZID=America/Denver:20171110T113000
DTSTAMP:20260420T120938
CREATED:20170915T231632Z
LAST-MODIFIED:20171017T230136Z
UID:745-1510308000-1510313400@achev.org
SUMMARY:Tour of the Ventura County Pregnancy Center for 6th grade and older
DESCRIPTION:Sorry\, but you do not have permission to view this content.
URL:https://achev.org/event/tour-of-the-ventura-county-pregnancy-center-for-6th-grade-and-older/
LOCATION:CA
CATEGORIES:Field Trip
ORGANIZER;CN="Avril%20Hill":MAILTO:darylavril@hotmail.com
END:VEVENT
BEGIN:VEVENT
DTSTART;TZID=America/Denver:20171109T190000
DTEND;TZID=America/Denver:20171109T210000
DTSTAMP:20260420T120938
CREATED:20171106T194728Z
LAST-MODIFIED:20171106T194728Z
UID:1017-1510254000-1510261200@achev.org
SUMMARY:Support Meeting: Get Smart about Chaos and Control
DESCRIPTION:Sorry\, but you do not have permission to view this content.
URL:https://achev.org/event/support-meeting-get-smart-about-chaos-and-control/
LOCATION:CA
ORGANIZER;CN="Susan%20Pineda":MAILTO:must_sew@yahoo.com
END:VEVENT
BEGIN:VEVENT
DTSTART;TZID=America/Denver:20171109T090000
DTEND;TZID=America/Denver:20171109T103000
DTSTAMP:20260420T120938
CREATED:20171024T031422Z
LAST-MODIFIED:20171024T231014Z
UID:957-1510218000-1510223400@achev.org
SUMMARY:Urbane Cafe Field Trip --VENTURA
DESCRIPTION:Sorry\, but you do not have permission to view this content.
URL:https://achev.org/event/urbane-cafe-field-trip-ventura/
LOCATION:CA
CATEGORIES:Field Trip
ORGANIZER;CN="Bonnie%20Adair":MAILTO:bonnieadair@verizon.net
END:VEVENT
BEGIN:VEVENT
DTSTART;TZID=America/Denver:20171109T090000
DTEND;TZID=America/Denver:20171109T103000
DTSTAMP:20260420T120938
CREATED:20171019T021954Z
LAST-MODIFIED:20171024T231053Z
UID:931-1510218000-1510223400@achev.org
SUMMARY:Urbane  Cafe Field Trip--Camarillo
DESCRIPTION:Sorry\, but you do not have permission to view this content.
URL:https://achev.org/event/urbane-cafe-field-trip/
LOCATION:Urbane Cafe Camarillo\, 1855 E Daily Dr (at Murray)\, Camarillo\, CA\, 93010\, United States
CATEGORIES:Field Trip
ORGANIZER;CN="Bonnie%20Adair":MAILTO:bonnieadair@verizon.net
END:VEVENT
BEGIN:VEVENT
DTSTART;TZID=America/Denver:20171107T113000
DTEND;TZID=America/Denver:20171107T133000
DTSTAMP:20260420T120938
CREATED:20171024T231226Z
LAST-MODIFIED:20171107T044623Z
UID:964-1510054200-1510061400@achev.org
SUMMARY:Camarillo Park Day
DESCRIPTION:Sorry\, but you do not have permission to view this content.
URL:https://achev.org/event/camarillo-park-day-5/
LOCATION:CA
CATEGORIES:Park Day
ORGANIZER;CN="Bonnie%20Adair":MAILTO:bonnieadair@verizon.net
END:VEVENT
BEGIN:VEVENT
DTSTART;TZID=America/Denver:20171102T110000
DTEND;TZID=America/Denver:20171102T140000
DTSTAMP:20260420T120938
CREATED:20171030T233629Z
LAST-MODIFIED:20171030T233629Z
UID:975-1509620400-1509631200@achev.org
SUMMARY:Ojai Park Day
DESCRIPTION:Sorry\, but you do not have permission to view this content.
URL:https://achev.org/event/ojai-park-day-3/
LOCATION:Ojai Park Day\, 269 E. Ojai Avenue\, Ojai\, CA\, 93023\, United States
CATEGORIES:Park Day
END:VEVENT
BEGIN:VEVENT
DTSTART;TZID=America/Denver:20171020T130000
DTEND;TZID=America/Denver:20171020T150000
DTSTAMP:20260420T120938
CREATED:20171002T163553Z
LAST-MODIFIED:20171002T163553Z
UID:813-1508504400-1508511600@achev.org
SUMMARY:Knit and Crochet Group
DESCRIPTION:Sorry\, but you do not have permission to view this content.
URL:https://achev.org/event/knit-and-crochet-group/
LOCATION:CA
ORGANIZER;CN="Susan%20Pineda":MAILTO:must_sew@yahoo.com
END:VEVENT
BEGIN:VEVENT
DTSTART;TZID=America/Denver:20171017T113000
DTEND;TZID=America/Denver:20171017T133000
DTSTAMP:20260420T120938
CREATED:20170924T032557Z
LAST-MODIFIED:20170924T032557Z
UID:791-1508239800-1508247000@achev.org
SUMMARY:Camarillo Park Day
DESCRIPTION:Sorry\, but you do not have permission to view this content.
URL:https://achev.org/event/camarillo-park-day-4/
LOCATION:CA
END:VEVENT
BEGIN:VEVENT
DTSTART;TZID=UTC:20171016T090000
DTEND;TZID=UTC:20171016T130000
DTSTAMP:20260420T120938
CREATED:20170725T100423Z
LAST-MODIFIED:20170725T100423Z
UID:317-1508144400-1508158800@achev.org
SUMMARY:Getty Center
DESCRIPTION:Sorry\, but you do not have permission to view this content.
URL:https://achev.org/event/getty-center/
LOCATION:Getty center\, 1200 Getty Center Drive\, Los Angeles\, CA\, 90049\, United States
CATEGORIES:Field Trip
ORGANIZER;CN="Liza%20Holdorf":MAILTO:plumage@live.com
END:VEVENT
BEGIN:VEVENT
DTSTART;TZID=America/Denver:20171013T110000
DTEND;TZID=America/Denver:20171013T114500
DTSTAMP:20260420T120938
CREATED:20170907T202812Z
LAST-MODIFIED:20170908T201154Z
UID:672-1507892400-1507895100@achev.org
SUMMARY:Pumpkin picking field trip to McGrath Brothers Great Pacific Pumpkin Patch
DESCRIPTION:Sorry\, but you do not have permission to view this content.
URL:https://achev.org/event/pumpkin-picking-field-trip-to-mcgrath-brothers-great-pacific-pumpkin-patch/
LOCATION:CA
CATEGORIES:Field Trip
ORGANIZER;CN="Bonnie%20Adair":MAILTO:bonnieadair@verizon.net
END:VEVENT
BEGIN:VEVENT
DTSTART;TZID=UTC:20171011T144500
DTEND;TZID=UTC:20171011T160000
DTSTAMP:20260420T120938
CREATED:20170712T071256Z
LAST-MODIFIED:20171007T033310Z
UID:500-1507733100-1507737600@achev.org
SUMMARY:PBS SoCal Studio Tour - RSVP Required
DESCRIPTION:Sorry\, but you do not have permission to view this content.
URL:https://achev.org/event/pbs-socal-studio-tour/
LOCATION:PBS SoCal Studio\, 3080 Bristol St Suite 400\, Costa Mesa\, CA\, 92626\, United States
CATEGORIES:Field Trip
ORGANIZER;CN="Shelley%20Znamenacek":MAILTO:shelley@zoltar.net
END:VEVENT
BEGIN:VEVENT
DTSTART;TZID=UTC:20171008T153000
DTEND;TZID=UTC:20171008T190000
DTSTAMP:20260420T120938
CREATED:20170725T100315Z
LAST-MODIFIED:20170914T232344Z
UID:484-1507476600-1507489200@achev.org
SUMMARY:Back To School Picnic/BBQ
DESCRIPTION:Sorry\, but you do not have permission to view this content.
URL:https://achev.org/event/back-to-school-picnicbbq/
LOCATION:Bob Kildee Community Park\, 1030 Temple Ave\, Camarillo\, CA\, 93010\, United States
ORGANIZER;CN="Janell%20Jones":MAILTO:janellrjones@me.com
END:VEVENT
BEGIN:VEVENT
DTSTART;TZID=America/Denver:20171006T120000
DTEND;TZID=America/Denver:20171006T150000
DTSTAMP:20260420T120938
CREATED:20170924T032742Z
LAST-MODIFIED:20170924T032742Z
UID:793-1507291200-1507302000@achev.org
SUMMARY:Beach Day
DESCRIPTION:Sorry\, but you do not have permission to view this content.
URL:https://achev.org/event/beach-day-6/
LOCATION:Marina Park Beach\, 2950 Pierpont Blvd\, Ventura\, CA
ORGANIZER;CN="Bonnie%20Adair":MAILTO:bonnieadair@verizon.net
END:VEVENT
BEGIN:VEVENT
DTSTART;TZID=America/Los_Angeles:20171005T110000
DTEND;TZID=America/Los_Angeles:20171005T130000
DTSTAMP:20260420T120938
CREATED:20170910T222752Z
LAST-MODIFIED:20170929T115509Z
UID:725-1507201200-1507208400@achev.org
SUMMARY:Ojai Park Day
DESCRIPTION:Sorry\, but you do not have permission to view this content.
URL:https://achev.org/event/ojai-park-day-2/
LOCATION:Ojai Park Day\, 269 E. Ojai Avenue\, Ojai\, CA\, 93023\, United States
CATEGORIES:Park Day
END:VEVENT
BEGIN:VEVENT
DTSTART;TZID=America/Denver:20171003T113000
DTEND;TZID=America/Denver:20171003T133000
DTSTAMP:20260420T120938
CREATED:20170924T032442Z
LAST-MODIFIED:20170924T032442Z
UID:789-1507030200-1507037400@achev.org
SUMMARY:Camarillo Park Day
DESCRIPTION:Sorry\, but you do not have permission to view this content.
URL:https://achev.org/event/camarillo-park-day-3/
LOCATION:CA
END:VEVENT
BEGIN:VEVENT
DTSTART;TZID=UTC:20170923T190000
DTEND;TZID=UTC:20170923T230000
DTSTAMP:20260420T120938
CREATED:20170810T221856Z
LAST-MODIFIED:20170923T173246Z
UID:568-1506193200-1506207600@achev.org
SUMMARY:Back to School Dance
DESCRIPTION:Sorry\, but you do not have permission to view this content.
URL:https://achev.org/event/back-to-school-dance/
LOCATION:Poinsettia Pavilion\, 3451 Foothill Rd\, Ventura\, CA\, 93003\, United States
END:VEVENT
BEGIN:VEVENT
DTSTART;TZID=UTC:20170922T120000
DTEND;TZID=UTC:20170922T150000
DTSTAMP:20260420T120938
CREATED:20170905T215301Z
LAST-MODIFIED:20170905T215301Z
UID:658-1506081600-1506092400@achev.org
SUMMARY:Beach Day
DESCRIPTION:Sorry\, but you do not have permission to view this content.
URL:https://achev.org/event/beach-day-5/
LOCATION:Marina Park Beach\, 2950 Pierpont Blvd\, Ventura\, CA
CATEGORIES:Beach Day
ORGANIZER;CN="Bonnie%20Adair":MAILTO:bonnieadair@verizon.net
END:VEVENT
END:VCALENDAR