BEGIN:VCALENDAR
VERSION:2.0
PRODID:-//ACHEV - ECPv6.2.0.1//NONSGML v1.0//EN
CALSCALE:GREGORIAN
METHOD:PUBLISH
X-WR-CALNAME:ACHEV
X-ORIGINAL-URL:https://achev.org
X-WR-CALDESC:Events for ACHEV
REFRESH-INTERVAL;VALUE=DURATION:PT1H
X-Robots-Tag:noindex
X-PUBLISHED-TTL:PT1H
BEGIN:VTIMEZONE
TZID:America/Denver
BEGIN:DAYLIGHT
TZOFFSETFROM:-0700
TZOFFSETTO:-0600
TZNAME:MDT
DTSTART:20190310T090000
END:DAYLIGHT
BEGIN:STANDARD
TZOFFSETFROM:-0600
TZOFFSETTO:-0700
TZNAME:MST
DTSTART:20191103T080000
END:STANDARD
END:VTIMEZONE
BEGIN:VEVENT
DTSTART;TZID=America/Denver:20190205T113000
DTEND;TZID=America/Denver:20190205T133000
DTSTAMP:20260419T065345
CREATED:20181024T055015Z
LAST-MODIFIED:20190204T164255Z
UID:2773-1549366200-1549373400@achev.org
SUMMARY:***Cancelled***Camarillo Park Day & P.E.
DESCRIPTION:The weather will be foul.  Please join us at the Adair home for game time instead.  Let me know if you plan to come.  
URL:https://achev.org/event/camarillo-park-day-p-e-2019-02-05/
LOCATION:Community Center Park Camarillo\, 1605 Burnley Street\, Camarillo\, CA\, 93010\, United States
CATEGORIES:Park Day
ORGANIZER;CN="Bonnie%20Adair":MAILTO:bonnieadair@verizon.net
END:VEVENT
BEGIN:VEVENT
DTSTART;TZID=America/Denver:20190205T120000
DTEND;TZID=America/Denver:20190205T140000
DTSTAMP:20260419T065345
CREATED:20190204T170223Z
LAST-MODIFIED:20190204T170422Z
UID:3367-1549368000-1549375200@achev.org
SUMMARY:Rainy Day Game Time
DESCRIPTION:Well\, it might not rain but it is going to be very cold and very windy.  Instead of park day\, please join us at the Adair home in Camarillo for some board game fun.  We have tons of games for all ages\, but if you have a favorite you are welcome to bring it.   You are welcome to bring a sack lunch to eat\, but we will eat before everyone gets here. RSVP is appreciated but not required.
URL:https://achev.org/event/rainy-day-game-time-3/
LOCATION:Adair Home\, 174 Granada Street\, Camarillo\, CA\, 93010\, United States
CATEGORIES:Park Day
END:VEVENT
END:VCALENDAR