BEGIN:VCALENDAR
VERSION:2.0
PRODID:-//ACHEV - ECPv6.2.0.1//NONSGML v1.0//EN
CALSCALE:GREGORIAN
METHOD:PUBLISH
X-ORIGINAL-URL:https://achev.org
X-WR-CALDESC:Events for ACHEV
REFRESH-INTERVAL;VALUE=DURATION:PT1H
X-Robots-Tag:noindex
X-PUBLISHED-TTL:PT1H
BEGIN:VTIMEZONE
TZID:America/Denver
BEGIN:DAYLIGHT
TZOFFSETFROM:-0700
TZOFFSETTO:-0600
TZNAME:MDT
DTSTART:20180311T090000
END:DAYLIGHT
BEGIN:STANDARD
TZOFFSETFROM:-0600
TZOFFSETTO:-0700
TZNAME:MST
DTSTART:20181104T080000
END:STANDARD
END:VTIMEZONE
BEGIN:VEVENT
DTSTART;TZID=America/Denver:20180918T113000
DTEND;TZID=America/Denver:20180918T133000
DTSTAMP:20260419T125155
CREATED:20180731T041419Z
LAST-MODIFIED:20180829T053938Z
UID:2263-1537270200-1537277400@achev.org
SUMMARY:Camarillo Park Day & P.E.*
DESCRIPTION:Join us for a play date at Nancy Bush Park in Camarillo\, conveniently located off the Las Posas Rd exit. It has been a while since we have met at this park. It is relatively quiet during the week and the kids love the trees for climbing and the dirt path for riding bikes and things on. This park has one small and one large play structure on sand. There is enough open grass area to play sports. The bathrooms are close to the playground and are usually in good condition.  Bring lunches\, bikes\, scooters\, balls\, etc. \n*From 12:30-1:30\, Mrs. Leite will be leading interested kids in organized tag games.  Mrs. Leite will have some games planned\, but we will also be asking the kids what their favorite tag/chase games are.
URL:https://achev.org/event/camarillo-park-day-13/
LOCATION:Nancy Bush Park\, 1150 Bradford Ave\, Camarillo\, CA\, 93010\, United States
CATEGORIES:Park Day
END:VEVENT
END:VCALENDAR