BEGIN:VCALENDAR
VERSION:2.0
PRODID:-//ACHEV - ECPv6.2.0.1//NONSGML v1.0//EN
CALSCALE:GREGORIAN
METHOD:PUBLISH
X-ORIGINAL-URL:https://achev.org
X-WR-CALDESC:Events for ACHEV
REFRESH-INTERVAL;VALUE=DURATION:PT1H
X-Robots-Tag:noindex
X-PUBLISHED-TTL:PT1H
BEGIN:VTIMEZONE
TZID:America/Denver
BEGIN:DAYLIGHT
TZOFFSETFROM:-0700
TZOFFSETTO:-0600
TZNAME:MDT
DTSTART:20180311T090000
END:DAYLIGHT
BEGIN:STANDARD
TZOFFSETFROM:-0600
TZOFFSETTO:-0700
TZNAME:MST
DTSTART:20181104T080000
END:STANDARD
END:VTIMEZONE
BEGIN:VEVENT
DTSTART;TZID=America/Denver:20180619T113000
DTEND;TZID=America/Denver:20180619T133000
DTSTAMP:20260419T172514
CREATED:20180528T043303Z
LAST-MODIFIED:20180614T052401Z
UID:1922-1529407800-1529415000@achev.org
SUMMARY:Camarillo Park Day
DESCRIPTION:Join us for a play date and a fun watercolor painting project at the Beautiful Camarillo Grove Park.  Mrs. Tromans is going to teach interested kids in using watercolors to paint a fun summer picture. \n \nBring a picnic lunch.  This park has a huge play set that my 10 year old daughter and 13 year old son just love to play on.  The play area is lined with wonderful old trees that are fun to climb and provide plentiful shade.  Just across the way is an outdoor interpretive nature center that is fun for all ages\, but is especially designed for younger kids.  Near the nature center are a couple of boulders that are great for rock climbing. \nImportant to note: \n\nIt costs $3 to park here all day\, and there is nowhere to park outside of the area to avoid the fee.  You will need to bring cash.\nThis is an off leash dog park all day.   Dogs are allowed off leash in all areas except for the nature center and hiking trails.\n\n 
URL:https://achev.org/event/camarillo-park-day-7/
LOCATION:Camarillo Grove Park\, 6968 E. Camarillo Springs Road (1\, Camarillo\, CA\, 93012\, United States
CATEGORIES:Park Day
ORGANIZER;CN="Bonnie%20Adair":MAILTO:bonnieadair@verizon.net
END:VEVENT
END:VCALENDAR