BEGIN:VCALENDAR
VERSION:2.0
PRODID:-//ACHEV - ECPv6.2.0.1//NONSGML v1.0//EN
CALSCALE:GREGORIAN
METHOD:PUBLISH
X-WR-CALNAME:ACHEV
X-ORIGINAL-URL:https://achev.org
X-WR-CALDESC:Events for ACHEV
REFRESH-INTERVAL;VALUE=DURATION:PT1H
X-Robots-Tag:noindex
X-PUBLISHED-TTL:PT1H
BEGIN:VTIMEZONE
TZID:America/Denver
BEGIN:DAYLIGHT
TZOFFSETFROM:-0700
TZOFFSETTO:-0600
TZNAME:MDT
DTSTART:20170312T090000
END:DAYLIGHT
BEGIN:STANDARD
TZOFFSETFROM:-0600
TZOFFSETTO:-0700
TZNAME:MST
DTSTART:20171105T080000
END:STANDARD
END:VTIMEZONE
BEGIN:VEVENT
DTSTART;TZID=America/Denver:20171102T110000
DTEND;TZID=America/Denver:20171102T140000
DTSTAMP:20260420T040026
CREATED:20171030T233629Z
LAST-MODIFIED:20171030T233629Z
UID:975-1509620400-1509631200@achev.org
SUMMARY:Ojai Park Day
DESCRIPTION:
URL:https://achev.org/event/ojai-park-day-3/
LOCATION:Ojai Park Day\, 269 E. Ojai Avenue\, Ojai\, CA\, 93023\, United States
CATEGORIES:Park Day
END:VEVENT
END:VCALENDAR