BEGIN:VCALENDAR
VERSION:2.0
PRODID:-//ACHEV - ECPv6.2.0.1//NONSGML v1.0//EN
CALSCALE:GREGORIAN
METHOD:PUBLISH
X-WR-CALNAME:ACHEV
X-ORIGINAL-URL:https://achev.org
X-WR-CALDESC:Events for ACHEV
REFRESH-INTERVAL;VALUE=DURATION:PT1H
X-Robots-Tag:noindex
X-PUBLISHED-TTL:PT1H
BEGIN:VTIMEZONE
TZID:UTC
BEGIN:STANDARD
TZOFFSETFROM:+0000
TZOFFSETTO:+0000
TZNAME:UTC
DTSTART:20170101T000000
END:STANDARD
END:VTIMEZONE
BEGIN:VEVENT
DTSTART;TZID=UTC:20170907T110000
DTEND;TZID=UTC:20170907T130000
DTSTAMP:20260420T065039
CREATED:20170810T220118Z
LAST-MODIFIED:20170906T215041Z
UID:566-1504782000-1504789200@achev.org
SUMMARY:Ojai Park Day - cancelled\, but will be rescheduled.
DESCRIPTION:Sorry! Ojai  Park Day cancelled\, but will be rescheduled. Thank you for your understanding!
URL:https://achev.org/event/ojai-park-day/
LOCATION:Ojai Park Day\, 269 E. Ojai Avenue\, Ojai\, CA\, 93023\, United States
CATEGORIES:Park Day
ORGANIZER;CN="Shelley%20Znamenacek":MAILTO:shelley@zoltar.net
END:VEVENT
END:VCALENDAR