BEGIN:VCALENDAR
VERSION:2.0
PRODID:-//ACHEV - ECPv6.2.0.1//NONSGML v1.0//EN
CALSCALE:GREGORIAN
METHOD:PUBLISH
X-ORIGINAL-URL:https://achev.org
X-WR-CALDESC:Events for ACHEV
REFRESH-INTERVAL;VALUE=DURATION:PT1H
X-Robots-Tag:noindex
X-PUBLISHED-TTL:PT1H
BEGIN:VTIMEZONE
TZID:UTC
BEGIN:STANDARD
TZOFFSETFROM:+0000
TZOFFSETTO:+0000
TZNAME:UTC
DTSTART:20170101T000000
END:STANDARD
END:VTIMEZONE
BEGIN:VEVENT
DTSTART;TZID=UTC:20170905T113000
DTEND;TZID=UTC:20170905T133000
DTSTAMP:20260420T065045
CREATED:20170905T211610Z
LAST-MODIFIED:20170905T212014Z
UID:647-1504611000-1504618200@achev.org
SUMMARY:Camarillo Park Day
DESCRIPTION:Back to school and back to park days! \nWe will be meeting at Pitts Ranch Park in Camarillo.  This park has two playgrounds\, a gazebo\, restrooms\, wood chips (no sand)\, and lots of sidewalk that is great for riding bikes/scooters. \n  \nIf you are new\, welcome! Let Bonnie know you are coming so she can keep an eye out for you!
URL:https://achev.org/event/camarillo-park-day/
LOCATION:Pitts Ranch Park\, 1400 Flynn Road\, Camarillo\, CA
CATEGORIES:Park Day
ORGANIZER;CN="Bonnie%20Adair":MAILTO:bonnieadair@verizon.net
END:VEVENT
END:VCALENDAR