BEGIN:VCALENDAR
VERSION:2.0
PRODID:-//ACHEV - ECPv6.2.0.1//NONSGML v1.0//EN
CALSCALE:GREGORIAN
METHOD:PUBLISH
X-WR-CALNAME:ACHEV
X-ORIGINAL-URL:https://achev.org
X-WR-CALDESC:Events for ACHEV
REFRESH-INTERVAL;VALUE=DURATION:PT1H
X-Robots-Tag:noindex
X-PUBLISHED-TTL:PT1H
BEGIN:VTIMEZONE
TZID:America/Denver
BEGIN:DAYLIGHT
TZOFFSETFROM:-0700
TZOFFSETTO:-0600
TZNAME:MDT
DTSTART:20180311T090000
END:DAYLIGHT
BEGIN:STANDARD
TZOFFSETFROM:-0600
TZOFFSETTO:-0700
TZNAME:MST
DTSTART:20181104T080000
END:STANDARD
END:VTIMEZONE
BEGIN:VEVENT
DTSTART;TZID=America/Denver:20181106T113000
DTEND;TZID=America/Denver:20181106T133000
DTSTAMP:20260419T081829
CREATED:20181024T055015Z
LAST-MODIFIED:20181024T055015Z
UID:2769-1541503800-1541511000@achev.org
SUMMARY:Camarillo Park Day & P.E.*
DESCRIPTION:Join us at Pitts Ranch Park in Camarillo for a play date\, fellowship & P.E.  This is a large park with wood chips (no sand)\, sidewalks for riding bikes/scooters/skates.  There is a large grass field for playing sports\, including a ball field.  There are restrooms next to the playground.  Bring some outdoor toys\, blanket\, chairs and picnic lunch.  This park also has tennis courts\, so if you or your kids enjoy tennis\, you can bring your tennis gear. \n*From 12:30-1:30 we will plan to lead the kids in a game of kickball and/or baseball.  If you have equipment\, bring a kickball\, baseball bat\, glove\, baseball/softball. \n 
URL:https://achev.org/event/camarillo-park-day-p-e/2018-11-06/
LOCATION:Pitts Ranch Park\, 1400 Flynn Road\, Camarillo\, CA
CATEGORIES:Park Day
ORGANIZER;CN="Bonnie%20Adair":MAILTO:bonnieadair@verizon.net
END:VEVENT
END:VCALENDAR