BEGIN:VCALENDAR
VERSION:2.0
PRODID:-//ACHEV - ECPv6.2.0.1//NONSGML v1.0//EN
CALSCALE:GREGORIAN
METHOD:PUBLISH
X-WR-CALNAME:ACHEV
X-ORIGINAL-URL:https://achev.org
X-WR-CALDESC:Events for ACHEV
REFRESH-INTERVAL;VALUE=DURATION:PT1H
X-Robots-Tag:noindex
X-PUBLISHED-TTL:PT1H
BEGIN:VTIMEZONE
TZID:America/Denver
BEGIN:DAYLIGHT
TZOFFSETFROM:-0700
TZOFFSETTO:-0600
TZNAME:MDT
DTSTART:20180311T090000
END:DAYLIGHT
BEGIN:STANDARD
TZOFFSETFROM:-0600
TZOFFSETTO:-0700
TZNAME:MST
DTSTART:20181104T080000
END:STANDARD
END:VTIMEZONE
BEGIN:VEVENT
DTSTART;TZID=America/Denver:20180904T113000
DTEND;TZID=America/Denver:20180904T133000
DTSTAMP:20260419T112334
CREATED:20180731T040501Z
LAST-MODIFIED:20180829T053250Z
UID:2255-1536060600-1536067800@achev.org
SUMMARY:Camarillo Park Day & P.E.*
DESCRIPTION:Join us for a play date at Nancy Bush Park in Camarillo\, conveniently located off the Las Posas Rd exit. It has been a while since we have met at this park. It is relatively quiet during the week and the kids love the trees for climbing and the dirt path for riding bikes and things on. This park has one small and one large play structure on sand. There is enough open grass area to play sports. The bathrooms are close to the playground and are usually in good condition.  Bring lunches\, bikes\, scooters\, balls\, etc. \n*From 12:30-1:30\, Mrs. Leite will be leading interested kids in organized tag games.  Mrs. Leite will have some games planned\, but we will also be asking the kids what their favorite tag/chase games are. \n 
URL:https://achev.org/event/camarillo-park-day-12/
LOCATION:Nancy Bush Park\, 1150 Bradford Ave\, Camarillo\, CA\, 93010\, United States
CATEGORIES:Park Day
END:VEVENT
BEGIN:VEVENT
DTSTART;TZID=America/Denver:20180909T150000
DTEND;TZID=America/Denver:20180909T193000
DTSTAMP:20260419T112334
CREATED:20180613T024959Z
LAST-MODIFIED:20180731T034602Z
UID:2005-1536505200-1536521400@achev.org
SUMMARY:Back to School Potluck BBQ
DESCRIPTION:Kick off the new school year with your ACHEV Family at our annual ACHEV BBQ.   Our kids so look forward to seeing lots of friends and playing at the park until dark.   We will have volleyball\, a slack line\, and giant Jenga.  If you want to organize an activity please make note of that on the sign up sheet. \nWe will be grilling hot dogs.  ACHEV has reserved the picnic area at Bob Kildee Community Park in Camarillo and will be providing all the paper and plastic items. We would like everyone who is coming to please sign up to bring an item or two under the “main” section as well as a side or dessert.  We would also like a parent to help with the BBQ and a couple parents to organize a fun activity for the kids.   Please let us know what you would like to bring and how many people are coming. \nPlease sign up using the link below. Thank you. \nWe are looking forward to seeing everyone soon! \n 
URL:https://achev.org/event/back-to-school-potluck-bbq/
LOCATION:Bob Kildee Community Park\, 1030 Temple Ave\, Camarillo\, CA\, 93010\, United States
CATEGORIES:Park Day
ORGANIZER;CN="Amy%20Tromans":MAILTO:dulceamymango@gmail.com
END:VEVENT
BEGIN:VEVENT
DTSTART;TZID=America/Denver:20180918T113000
DTEND;TZID=America/Denver:20180918T133000
DTSTAMP:20260419T112334
CREATED:20180731T041419Z
LAST-MODIFIED:20180829T053938Z
UID:2263-1537270200-1537277400@achev.org
SUMMARY:Camarillo Park Day & P.E.*
DESCRIPTION:Join us for a play date at Nancy Bush Park in Camarillo\, conveniently located off the Las Posas Rd exit. It has been a while since we have met at this park. It is relatively quiet during the week and the kids love the trees for climbing and the dirt path for riding bikes and things on. This park has one small and one large play structure on sand. There is enough open grass area to play sports. The bathrooms are close to the playground and are usually in good condition.  Bring lunches\, bikes\, scooters\, balls\, etc. \n*From 12:30-1:30\, Mrs. Leite will be leading interested kids in organized tag games.  Mrs. Leite will have some games planned\, but we will also be asking the kids what their favorite tag/chase games are.
URL:https://achev.org/event/camarillo-park-day-13/
LOCATION:Nancy Bush Park\, 1150 Bradford Ave\, Camarillo\, CA\, 93010\, United States
CATEGORIES:Park Day
END:VEVENT
END:VCALENDAR