BEGIN:VCALENDAR
VERSION:2.0
PRODID:-//ACHEV - ECPv6.2.0.1//NONSGML v1.0//EN
CALSCALE:GREGORIAN
METHOD:PUBLISH
X-WR-CALNAME:ACHEV
X-ORIGINAL-URL:https://achev.org
X-WR-CALDESC:Events for ACHEV
REFRESH-INTERVAL;VALUE=DURATION:PT1H
X-Robots-Tag:noindex
X-PUBLISHED-TTL:PT1H
BEGIN:VTIMEZONE
TZID:America/Denver
BEGIN:DAYLIGHT
TZOFFSETFROM:-0700
TZOFFSETTO:-0600
TZNAME:MDT
DTSTART:20180311T090000
END:DAYLIGHT
BEGIN:STANDARD
TZOFFSETFROM:-0600
TZOFFSETTO:-0700
TZNAME:MST
DTSTART:20181104T080000
END:STANDARD
END:VTIMEZONE
BEGIN:VEVENT
DTSTART;TZID=America/Denver:20180501T113000
DTEND;TZID=America/Denver:20180501T133000
DTSTAMP:20260419T172357
CREATED:20180430T145415Z
LAST-MODIFIED:20180501T002702Z
UID:1832-1525174200-1525181400@achev.org
SUMMARY:Camarillo Park Day & PE*
DESCRIPTION:We will be meeting at Pitts Ranch Park in Camarillo.  This park has two playgrounds\, tennis courts\, a gazebo\, restrooms\, wood chips (no sand)\, and lots of sidewalk that is great for riding bikes/scooters/skates. \n*Let’s play kickball!  Mrs. Gonzales will be leading interested kids in playing kickball from 12:30-1:30. \n***Please note\, this is the only Camarillo park day for the month of May.  Look out for beach day later in the month. \n 
URL:https://achev.org/event/camarillo-park-day-pe-10/
LOCATION:Pitts Ranch Park\, 1400 Flynn Road\, Camarillo\, CA
CATEGORIES:Park Day
END:VEVENT
BEGIN:VEVENT
DTSTART;TZID=America/Denver:20180510T110000
DTEND;TZID=America/Denver:20180510T130000
DTSTAMP:20260419T172357
CREATED:20171127T043021Z
LAST-MODIFIED:20180430T231142Z
UID:1203-1525950000-1525957200@achev.org
SUMMARY:Ojai Park Day
DESCRIPTION:  \nOjai Park Day – 11:00am to 1:00pm.  Meet at the Libbey Park play structure\, 269 E. Ojai Avenue. Co-Hosted by Shelley Znamenacek and Aubrie Norris. \nBring a picnic lunch to enjoy at the park with other ACHEV families and watch your children have a great time at the park.  Open to all ages!  There is plenty of space for all children to play and run around. Look for the ACHEV sign. Come Join the Fun!
URL:https://achev.org/event/ojai-park-day-9/
LOCATION:Libbey Park\, 269 E. Ojai Avenue\, Ojai\, CA\, 93023\, United States
CATEGORIES:Park Day
END:VEVENT
END:VCALENDAR