BEGIN:VCALENDAR
VERSION:2.0
PRODID:-//ACHEV - ECPv6.2.0.1//NONSGML v1.0//EN
CALSCALE:GREGORIAN
METHOD:PUBLISH
X-ORIGINAL-URL:https://achev.org
X-WR-CALDESC:Events for ACHEV
REFRESH-INTERVAL;VALUE=DURATION:PT1H
X-Robots-Tag:noindex
X-PUBLISHED-TTL:PT1H
BEGIN:VTIMEZONE
TZID:America/Denver
BEGIN:DAYLIGHT
TZOFFSETFROM:-0700
TZOFFSETTO:-0600
TZNAME:MDT
DTSTART:20180311T090000
END:DAYLIGHT
BEGIN:STANDARD
TZOFFSETFROM:-0600
TZOFFSETTO:-0700
TZNAME:MST
DTSTART:20181104T080000
END:STANDARD
END:VTIMEZONE
BEGIN:VEVENT
DTSTART;TZID=America/Denver:20180301T110000
DTEND;TZID=America/Denver:20180301T130000
DTSTAMP:20260419T203805
CREATED:20171127T042655Z
LAST-MODIFIED:20171127T042655Z
UID:1199-1519902000-1519909200@achev.org
SUMMARY:Ojai Park Day
DESCRIPTION:Ojai Park Day – 11:00am to 1:00pm.  Meet at the Libbey Park play structure\, 269 E. Ojai Avenue. Co-Hosted by Shelley Znamenacek and Aubrie Norris. \nBring a picnic lunch to enjoy at the park with other ACHEV families and watch your children have a great time at the park.  Open to all ages!  There is plenty of space for all children to play and run around. Look for the ACHEV sign. Come Join the Fun!
URL:https://achev.org/event/ojai-park-day-7/
LOCATION:Libbey Park\, 269 E. Ojai Avenue\, Ojai\, CA\, 93023\, United States
CATEGORIES:Park Day
END:VEVENT
BEGIN:VEVENT
DTSTART;TZID=America/Denver:20180306T113000
DTEND;TZID=America/Denver:20180306T133000
DTSTAMP:20260419T203805
CREATED:20180107T074620Z
LAST-MODIFIED:20180302T070846Z
UID:1391-1520335800-1520343000@achev.org
SUMMARY:Camarillo Park Day & PE*
DESCRIPTION:We will be meeting at Pitts Ranch Park in Camarillo.  This park has two playgrounds\, tennis courts\, a gazebo\, restrooms\, wood chips (no sand)\, and lots of sidewalk that is great for riding bikes/scooters/skates. \n*Mrs. Gonzales will be leading interested kids in playing dodge ball from 12:30-1:00.  If there are enough kids\, we will have two games going\, one for big kids who want to use a traditional ball\, and one for younger kids who want to use a softer ball.  \n*From 1:00-1:30 we will plan on doing four square\, jump rope\,  and/or hop scotch with interested kids
URL:https://achev.org/event/camarillo-park-day-pe-6/
LOCATION:Pitts Ranch Park\, 1400 Flynn Road\, Camarillo\, CA
CATEGORIES:Park Day
ORGANIZER;CN="Bonnie%20Adair":MAILTO:bonnieadair@verizon.net
END:VEVENT
BEGIN:VEVENT
DTSTART;TZID=America/Denver:20180320T113000
DTEND;TZID=America/Denver:20180320T133000
DTSTAMP:20260419T203805
CREATED:20180107T075055Z
LAST-MODIFIED:20180302T071154Z
UID:1393-1521545400-1521552600@achev.org
SUMMARY:Camarillo Park Day & PE*
DESCRIPTION:We will be meeting at Pitts Ranch Park in Camarillo.  This park has two playgrounds\, tennis courts\, a gazebo\, restrooms\, wood chips (no sand)\, and lots of sidewalk that is great for riding bikes/scooters/skates. \n*Mrs. Gonzales will be leading interested kids in playing dodge ball from 12:30-1:00.  If there are enough kids\, we will have two games going\, one for big kids who want to use a traditional ball\, and one for younger kids who want to use a softer ball.  \n*From 1:00-1:30 we will plan on doing four square\, jump rope\,  and/or hop scotch with interested kids
URL:https://achev.org/event/camarillo-park-day-pe-7/
LOCATION:Pitts Ranch Park\, 1400 Flynn Road\, Camarillo\, CA
CATEGORIES:Park Day
ORGANIZER;CN="Bonnie%20Adair":MAILTO:bonnieadair@verizon.net
END:VEVENT
END:VCALENDAR