BEGIN:VCALENDAR
VERSION:2.0
PRODID:-//ACHEV - ECPv6.2.0.1//NONSGML v1.0//EN
CALSCALE:GREGORIAN
METHOD:PUBLISH
X-WR-CALNAME:ACHEV
X-ORIGINAL-URL:https://achev.org
X-WR-CALDESC:Events for ACHEV
REFRESH-INTERVAL;VALUE=DURATION:PT1H
X-Robots-Tag:noindex
X-PUBLISHED-TTL:PT1H
BEGIN:VTIMEZONE
TZID:America/Denver
BEGIN:DAYLIGHT
TZOFFSETFROM:-0700
TZOFFSETTO:-0600
TZNAME:MDT
DTSTART:20180311T090000
END:DAYLIGHT
BEGIN:STANDARD
TZOFFSETFROM:-0600
TZOFFSETTO:-0700
TZNAME:MST
DTSTART:20181104T080000
END:STANDARD
END:VTIMEZONE
BEGIN:VEVENT
DTSTART;TZID=America/Denver:20180201T110000
DTEND;TZID=America/Denver:20180201T130000
DTSTAMP:20260419T220033
CREATED:20171127T042531Z
LAST-MODIFIED:20171127T042531Z
UID:1197-1517482800-1517490000@achev.org
SUMMARY:Ojai Park Day
DESCRIPTION:Ojai Park Day – 11:00am to 1:00pm.  Meet at the Libbey Park play structure\, 269 E. Ojai Avenue. Co-Hosted by Shelley Znamenacek and Aubrie Norris. \nBring a picnic lunch to enjoy at the park with other ACHEV families and watch your children have a great time at the park.  Open to all ages!  There is plenty of space for all children to play and run around. Look for the ACHEV sign. Come Join the Fun!
URL:https://achev.org/event/ojai-park-day-6/
LOCATION:Libbey Park\, 269 E. Ojai Avenue\, Ojai\, CA\, 93023\, United States
CATEGORIES:Park Day
END:VEVENT
BEGIN:VEVENT
DTSTART;TZID=America/Denver:20180206T113000
DTEND;TZID=America/Denver:20180206T133000
DTSTAMP:20260419T220033
CREATED:20180107T073450Z
LAST-MODIFIED:20180206T071127Z
UID:1387-1517916600-1517923800@achev.org
SUMMARY:Camarillo Park Day & PE*
DESCRIPTION:We will be meeting at Pitts Ranch Park in Camarillo.  This park has two playgrounds\, tennis courts\, a gazebo\, restrooms\, wood chips (no sand)\, and lots of sidewalk that is great for riding bikes/scooters/skates. \n*Mrs. Gonzales will be leading interested kids in warm-up\, skills and drills from 12:30-1:00. Bring your rackets and balls if you have them. We may or may not have extra for sharing if you do not have the equipment.\n*From 1:00-1:30 Mr. Hill will continue to teach tennis and allow for game time/rallying.\n*From 1:00-1:30 Mrs. Gonzales will be teaching/playing four square\, jump rope\, hop scotch\, etc. with interested children.
URL:https://achev.org/event/camarillo-park-day-pe-4/
LOCATION:Pitts Ranch Park\, 1400 Flynn Road\, Camarillo\, CA
CATEGORIES:Park Day
ORGANIZER;CN="Bonnie%20Adair":MAILTO:bonnieadair@verizon.net
END:VEVENT
BEGIN:VEVENT
DTSTART;TZID=America/Denver:20180212T110000
DTEND;TZID=America/Denver:20180212T140000
DTSTAMP:20260419T220033
CREATED:20180116T035640Z
LAST-MODIFIED:20180116T035640Z
UID:1475-1518433200-1518444000@achev.org
SUMMARY:2018 Valentine's Day Party
DESCRIPTION:Hello Achev Friends\, \nPlease join us for our Valentine’s day party. We will be playing a few new  games\, passing out and collecting valentines and sharing company with new and old friends… We look forward to connecting with you soon! \nWhen: Monday\, February 12\, 2018 \nTime:  11am to 2pm \nWhere: Thille Park\, Ventura \nGames: We will be playing Limbo\, Around the world and a Hula Hoop team building game. \nValentines: Please have every child bring 25-30 valentines to pass out. Have your child write their name in the FROM: spot on each card but please leave the TO: spot blank. This makes it easier to pass out. Each child should bring a seperate box or bag to collect valentines. We will decide on seperating the older from younger kids based on the amount of children that attend.  \nLunch/Snacks: Bring your own lunch\, a treat to share with the group. (Ex..cookies\, cupcakes\, fruit etc…) and chairs\, blankets and other park equipment. \nHosts: Cristina Adkins 805-419-1016 or creativebunch@outlook.com \n Kelly Green 805-620-2945 \nPlease RSVP on the google doc link below: \nhttps://docs.google.com/spreadsheets/d/1nIr3qe5tVmpKbUu80Cb9NfqFxb1WPs7oUejLbXYuuRo/edit?usp=sharing \nSchedule of events: \n11:00-12:15 arrive and play games \n12:15- 1:15 lunch\, free play \n1:15 Valentines exchange
URL:https://achev.org/event/2018-valentines-day-party/
LOCATION:Thille Park
CATEGORIES:Park Day
ORGANIZER;CN="Christina%20Adkins":MAILTO:creativebunch@outlook.com
END:VEVENT
BEGIN:VEVENT
DTSTART;TZID=America/Denver:20180220T113000
DTEND;TZID=America/Denver:20180220T133000
DTSTAMP:20260419T220033
CREATED:20180107T073858Z
LAST-MODIFIED:20180206T071339Z
UID:1389-1519126200-1519133400@achev.org
SUMMARY:Camarillo Park Day & PE*
DESCRIPTION:We will be meeting at Pitts Ranch Park in Camarillo.  This park has two playgrounds\, tennis courts\, a gazebo\, restrooms\, wood chips (no sand)\, and lots of sidewalk that is great for riding bikes/scooters/skates. \n*Mrs. Gonzales will be leading interested kids in warm-up\, skills and drills from 12:30-1:00. Bring your rackets and balls if you have them. We may or may not have extra for sharing if you do not have the equipment.\n*From 1:00-1:30 Mr. Hill will continue to teach tennis and allow for game time/rallying.\n*From 1:00-1:30 Mrs. Gonzales will be teaching/playing four square\, jump rope\, hop scotch\, etc. with interested children.
URL:https://achev.org/event/camarillo-park-day-pe-5/
LOCATION:Pitts Ranch Park\, 1400 Flynn Road\, Camarillo\, CA
CATEGORIES:Park Day
ORGANIZER;CN="Bonnie%20Adair":MAILTO:bonnieadair@verizon.net
END:VEVENT
END:VCALENDAR