BEGIN:VCALENDAR
VERSION:2.0
PRODID:-//ACHEV - ECPv6.2.0.1//NONSGML v1.0//EN
CALSCALE:GREGORIAN
METHOD:PUBLISH
X-ORIGINAL-URL:https://achev.org
X-WR-CALDESC:Events for ACHEV
REFRESH-INTERVAL;VALUE=DURATION:PT1H
X-Robots-Tag:noindex
X-PUBLISHED-TTL:PT1H
BEGIN:VTIMEZONE
TZID:America/Denver
BEGIN:DAYLIGHT
TZOFFSETFROM:-0700
TZOFFSETTO:-0600
TZNAME:MDT
DTSTART:20170312T090000
END:DAYLIGHT
BEGIN:STANDARD
TZOFFSETFROM:-0600
TZOFFSETTO:-0700
TZNAME:MST
DTSTART:20171105T080000
END:STANDARD
END:VTIMEZONE
BEGIN:VEVENT
DTSTART;TZID=America/Denver:20171102T110000
DTEND;TZID=America/Denver:20171102T140000
DTSTAMP:20260420T023056
CREATED:20171030T233629Z
LAST-MODIFIED:20171030T233629Z
UID:975-1509620400-1509631200@achev.org
SUMMARY:Ojai Park Day
DESCRIPTION:
URL:https://achev.org/event/ojai-park-day-3/
LOCATION:Ojai Park Day\, 269 E. Ojai Avenue\, Ojai\, CA\, 93023\, United States
CATEGORIES:Park Day
END:VEVENT
BEGIN:VEVENT
DTSTART;TZID=America/Denver:20171107T113000
DTEND;TZID=America/Denver:20171107T133000
DTSTAMP:20260420T023056
CREATED:20171024T231226Z
LAST-MODIFIED:20171107T044623Z
UID:964-1510054200-1510061400@achev.org
SUMMARY:Camarillo Park Day
DESCRIPTION:At Pitts Ranch Park 1400 Flynn Road\, in Camarillo. This park has two playgrounds\, a gazebo\, restrooms\, wood chips (no sand)\, and lots of sidewalk that is great for riding bikes/scooters. Mrs. Gonzales will be leading interested kids in playing tennis from 12:30-1:30\, at the first park day\, possibly at the second. See the week at a glance for details. Bring your rackets and balls if you have them. The kids had a lot of fun learning tennis at the last park day. http://www.pvrpd.org/parks/active/pittsranch.asp\nHost: Bonnie Adair 805-504-6457
URL:https://achev.org/event/camarillo-park-day-5/
LOCATION:CA
CATEGORIES:Park Day
ORGANIZER;CN="Bonnie%20Adair":MAILTO:bonnieadair@verizon.net
END:VEVENT
BEGIN:VEVENT
DTSTART;TZID=America/Denver:20171121T113000
DTEND;TZID=America/Denver:20171121T133000
DTSTAMP:20260420T023056
CREATED:20171024T231443Z
LAST-MODIFIED:20171107T044722Z
UID:967-1511263800-1511271000@achev.org
SUMMARY:Camarillo Park Day
DESCRIPTION:At Pitts Ranch Park 1400 Flynn Road\, in Camarillo. This park has two playgrounds\, a gazebo\, restrooms\, wood chips (no sand)\, and lots of sidewalk that is great for riding bikes/scooters. Mrs. Gonzales will be leading interested kids in playing tennis from 12:30-1:30\, at the first park day\, possibly at the second. See the week at a glance for details. Bring your rackets and balls if you have them. The kids had a lot of fun learning tennis at the last park day. http://www.pvrpd.org/parks/active/pittsranch.asp\nHost: Bonnie Adair 805-504-6457
URL:https://achev.org/event/camarillo-park-day-6/
LOCATION:CA
CATEGORIES:Park Day
ORGANIZER;CN="Bonnie%20Adair":MAILTO:bonnieadair@verizon.net
END:VEVENT
END:VCALENDAR