BEGIN:VCALENDAR
VERSION:2.0
PRODID:-//ACHEV - ECPv6.2.0.1//NONSGML v1.0//EN
CALSCALE:GREGORIAN
METHOD:PUBLISH
X-ORIGINAL-URL:https://achev.org
X-WR-CALDESC:Events for ACHEV
REFRESH-INTERVAL;VALUE=DURATION:PT1H
X-Robots-Tag:noindex
X-PUBLISHED-TTL:PT1H
BEGIN:VTIMEZONE
TZID:America/Los_Angeles
BEGIN:DAYLIGHT
TZOFFSETFROM:-0800
TZOFFSETTO:-0700
TZNAME:PDT
DTSTART:20240310T100000
END:DAYLIGHT
BEGIN:STANDARD
TZOFFSETFROM:-0700
TZOFFSETTO:-0800
TZNAME:PST
DTSTART:20241103T090000
END:STANDARD
END:VTIMEZONE
BEGIN:VEVENT
DTSTART;TZID=America/Los_Angeles:20241211T140000
DTEND;TZID=America/Los_Angeles:20241211T160000
DTSTAMP:20260419T131620
CREATED:20241123T171824Z
LAST-MODIFIED:20241123T182821Z
UID:22575-1733925600-1733932800@achev.org
SUMMARY:Oxnard Police Department Tour
DESCRIPTION:    \nWhat: Come visit the Oxnard Police Department.  We will get a tour of the station\, dispatch and booking\, a police car\, and see their new drone unit.  We will also get to visit the building on Sturgis Rd. where the SWAT team trains and keeps all their equipment. \nCost: Free \nWho: ACHEV Members all ages and their parents.  Space is limited\, so please only one parent per family. \nNotes: We may be divided into two groups.  I will let you know when we get close to the field trip date.  We will be visiting two separate facilities.  When we finish at one\, we will drive about 10 minutes to the other.  This gives us the opportunity to see all the neat stuff the SWAT team does as well as seeing the station\, the jail\, etc.  I will give more details to all participants before the trip. \nWe haven’t done a police station tour since 2018\, and we have never gotten to see the Sturgis facility before.  We’ll also get to see some of their special equipment (robot\, Bearcat)\, and new stuff\, so we are excited for this opportunity. \n*If you have a baby\, it would be best to use a carrier for this field trip – it will be hard to maneuver a stroller around – there are tight spaces and stairs and it is a very old building. \nSign up Here by Sunday December 8th
URL:https://achev.org/event/oxnard-police-department-tour-2/
LOCATION:Oxnard Police Department\, 251 S C Street\, Oxnard\, CA\, 93030\, United States
CATEGORIES:Field Trip
ORGANIZER;CN="Bonnie%20Adair":MAILTO:bonnieadair@verizon.net
END:VEVENT
END:VCALENDAR