BEGIN:VCALENDAR
VERSION:2.0
PRODID:-//ACHEV - ECPv6.2.0.1//NONSGML v1.0//EN
CALSCALE:GREGORIAN
METHOD:PUBLISH
X-WR-CALNAME:ACHEV
X-ORIGINAL-URL:https://achev.org
X-WR-CALDESC:Events for ACHEV
REFRESH-INTERVAL;VALUE=DURATION:PT1H
X-Robots-Tag:noindex
X-PUBLISHED-TTL:PT1H
BEGIN:VTIMEZONE
TZID:America/Los_Angeles
BEGIN:DAYLIGHT
TZOFFSETFROM:-0800
TZOFFSETTO:-0700
TZNAME:PDT
DTSTART:20240310T100000
END:DAYLIGHT
BEGIN:STANDARD
TZOFFSETFROM:-0700
TZOFFSETTO:-0800
TZNAME:PST
DTSTART:20241103T090000
END:STANDARD
END:VTIMEZONE
BEGIN:VEVENT
DTSTART;TZID=America/Los_Angeles:20241014T100000
DTEND;TZID=America/Los_Angeles:20241014T120000
DTSTAMP:20260419T175329
CREATED:20240925T045600Z
LAST-MODIFIED:20240925T045851Z
UID:22440-1728900000-1728907200@achev.org
SUMMARY:Columbus Day Field Trip to the Channel Islands Maritime Museum
DESCRIPTION:It’s Columbus Day!  I can’t think of a better way to teach the kids about Columbus Day than with a docent led educational program at the Channel Islands Maritime Museum in Oxnard.  The docents here are very knowledgeable and eager to answer questions.  There is so much to see and do here and it is great for all ages.   They will take us through 4 different stations and the Age of Exploration will be emphasized.  We’ll learn about explorers\, navigation & timekeeping\, parts of a ship\, signals\, see their models of Columbus’ the Nina\, Pinta\, and Santa Maria\, and a lot more. \nWho: ACHEV Members\, all ages. \nCost: $200 for our group.  We’ll divide the cost evenly between everyone age 5+ .   If we have 20 people age 5 and up\, it will be $10 per person.  Parking is free. \nOther: There is a picnic area in front of the museum with an area to play on a pretend tall ship.  So bring your lunches and have a picnic with us out front after our tour.  After lunch\, you are free to go back inside and enjoy the museum as long as you want.  There are also a couple of parks nearby and the beach is walking distance. \nSign Up Here  Sign up by October 7th. \n  \n \n  \n  \n 
URL:https://achev.org/event/columbus-day-field-trip-to-the-channel-islands-maritime-museum/
LOCATION:Channel Islands Maritime Museum\, 3900 Bluefin Circle\, Oxnard\, CA\, 93035\, United States
CATEGORIES:Field Trip
ORGANIZER;CN="Bonnie%20Adair":MAILTO:bonnieadair@verizon.net
END:VEVENT
END:VCALENDAR