BEGIN:VCALENDAR
VERSION:2.0
PRODID:-//ACHEV - ECPv6.2.0.1//NONSGML v1.0//EN
CALSCALE:GREGORIAN
METHOD:PUBLISH
X-ORIGINAL-URL:https://achev.org
X-WR-CALDESC:Events for ACHEV
REFRESH-INTERVAL;VALUE=DURATION:PT1H
X-Robots-Tag:noindex
X-PUBLISHED-TTL:PT1H
BEGIN:VTIMEZONE
TZID:America/Los_Angeles
BEGIN:DAYLIGHT
TZOFFSETFROM:-0800
TZOFFSETTO:-0700
TZNAME:PDT
DTSTART:20240310T100000
END:DAYLIGHT
BEGIN:STANDARD
TZOFFSETFROM:-0700
TZOFFSETTO:-0800
TZNAME:PST
DTSTART:20241103T090000
END:STANDARD
END:VTIMEZONE
BEGIN:VEVENT
DTSTART;TZID=America/Los_Angeles:20241002T100000
DTEND;TZID=America/Los_Angeles:20241002T110000
DTSTAMP:20260423T030917
CREATED:20240831T044202Z
LAST-MODIFIED:20240831T045739Z
UID:22362-1727863200-1727866800@achev.org
SUMMARY:Great Pacific Pumpkin Patch Field Trip
DESCRIPTION:Oh\, fall.  So many of us look forward to this season\, and pumpkins and all things pumpkin-spiced is one of the reasons why.   Join us for one of my favorite field trips of the year.  We are going to the McGrath Brothers Great Pacific Pumpkin Patch.   It is in Ventura on Olivas Park Drive\, it is not the one in Camarillo. \nWe will receive an educational pumpkin/squash talk\, a hay ride on their beautiful property while we learn a bit of the history of their farm\, a visit with the animals and then everyone can pick out their own pumpkins.  Children will get to pick out one small sugar pumpkin to take home (included in $6 field trip fee). \nCost: $6 per child ages 6 and up.  $1 for every adult and kids under 6 (including babies).  Children under 6 that do not pay $6\, do not get a sugar pumpkin included\, but you can choose and pay for as many additional pumpkins and squash as you like.  Bring cash with you for the field trip fees. I will collect from everyone as you arrive and make one lump payment for our group before the field trip starts.  They take credit cards at the farm stand if you want to purchase additional pumpkins from them. \nTime: Our tour starts at 10:00.  Please arrive at 9:45 so that I can collect cash from everyone and make payment before the tour starts.  The tour will last about 45-60 minutes\, but plan to spend a little extra time afterwards to look at their wonderful selection of pumpkins and squash that are great for eating\, decorating and carving. \nSign Up Here\nAdditional Info: \n\nThey have a wide and wonderful selection of pumpkins\, squash\, gourds\, and colorful corn available for purchase.   We have been to a lot of pumpkin patches\, and this is my favorite to purchase from.  They should have a bunch of dried out gourds to choose from and they make a really fun art project for Halloween or Thanksgiving.\nThey are dog friendly as long as your dog stays on a leash and you clean up after it.\nBring your whole family and your camera!  They have a lot of good photo ops here =)\nWear good shoes.  There is a lot of dirt and some uneven ground.  Potentially mud depending on weather.\n\n 
URL:https://achev.org/event/great-pacific-pumpkin-patch-field-trip-3/
LOCATION:McGrath Brothers Great Pacific Pumpkin Patch\, 5100 Olivas Park Drive\, Ventura\, CA\, 93003\, United States
CATEGORIES:Field Trip
ORGANIZER;CN="Bonnie%20Adair":MAILTO:bonnieadair@verizon.net
END:VEVENT
END:VCALENDAR