BEGIN:VCALENDAR
VERSION:2.0
PRODID:-//ACHEV - ECPv6.2.0.1//NONSGML v1.0//EN
CALSCALE:GREGORIAN
METHOD:PUBLISH
X-WR-CALNAME:ACHEV
X-ORIGINAL-URL:https://achev.org
X-WR-CALDESC:Events for ACHEV
REFRESH-INTERVAL;VALUE=DURATION:PT1H
X-Robots-Tag:noindex
X-PUBLISHED-TTL:PT1H
BEGIN:VTIMEZONE
TZID:America/Los_Angeles
BEGIN:DAYLIGHT
TZOFFSETFROM:-0800
TZOFFSETTO:-0700
TZNAME:PDT
DTSTART:20240310T100000
END:DAYLIGHT
BEGIN:STANDARD
TZOFFSETFROM:-0700
TZOFFSETTO:-0800
TZNAME:PST
DTSTART:20241103T090000
END:STANDARD
END:VTIMEZONE
BEGIN:VEVENT
DTSTART;TZID=America/Los_Angeles:20240529T100000
DTEND;TZID=America/Los_Angeles:20240529T113000
DTSTAMP:20260425T201448
CREATED:20240510T203853Z
LAST-MODIFIED:20240520T214552Z
UID:21916-1716976800-1716982200@achev.org
SUMMARY:Blueberry Picking Field Trip
DESCRIPTION:Field Trip at One Acre Farm!  One Acre Farm grows delicious organic blueberries.\n\n\n\n\n\nLearn first hand about…\nGrowing Fruit\nPlanting\nSelling\nSmall Business Farming…We love teaching our future generations and would love to pass our knowledge and encouragement on to them!\n\n\n\nCost: $3 per 6 oz blueberries/ $24 per full bucket\n             Pay with cash or card\n\n\nThey provide buckets to pick your berries into\, and they will provide plastic clamshell containers for taking them home.  You may bring your own re-useable containers for packing and taking them home if you like.\n\nWho: All ages.  All ACHEV members and their families\, siblings and extended family welcome.  This is a fun field trip to invite Grandparents\, Aunties\, etc to join in.\n\nOne Acre Farm is located on Gerry Ranch on the outskirts of Camarillo right off of Santa Rosa Rd.  I will email everyone more specific details for parking/directions before the field trip.\nSign Up Here 
URL:https://achev.org/event/blueberry-picking-field-trip-2/2024-05-29/
LOCATION:One Acre Farm\, 9015 Rosita Road\, Camarillo\, CA\, 93012\, United States
CATEGORIES:Field Trip
ORGANIZER;CN="Bonnie%20Adair":MAILTO:bonnieadair@verizon.net
END:VEVENT
END:VCALENDAR