BEGIN:VCALENDAR
VERSION:2.0
PRODID:-//ACHEV - ECPv6.2.0.1//NONSGML v1.0//EN
CALSCALE:GREGORIAN
METHOD:PUBLISH
X-ORIGINAL-URL:https://achev.org
X-WR-CALDESC:Events for ACHEV
REFRESH-INTERVAL;VALUE=DURATION:PT1H
X-Robots-Tag:noindex
X-PUBLISHED-TTL:PT1H
BEGIN:VTIMEZONE
TZID:America/Los_Angeles
BEGIN:DAYLIGHT
TZOFFSETFROM:-0800
TZOFFSETTO:-0700
TZNAME:PDT
DTSTART:20240310T100000
END:DAYLIGHT
BEGIN:STANDARD
TZOFFSETFROM:-0700
TZOFFSETTO:-0800
TZNAME:PST
DTSTART:20241103T090000
END:STANDARD
END:VTIMEZONE
BEGIN:VEVENT
DTSTART;TZID=America/Los_Angeles:20241107T083000
DTEND;TZID=America/Los_Angeles:20241107T103000
DTSTAMP:20260419T130553
CREATED:20241017T202344Z
LAST-MODIFIED:20241017T202744Z
UID:22491-1730968200-1730975400@achev.org
SUMMARY:Field Trip - Urbane Cafe Thousand Oaks
DESCRIPTION:What: Tour of Urbane Café Thousand Oaks. Learn about a “fast casual” restaurant and how to make a great sandwich! \nDuring the field trip\, we will split the class up into two groups. The first group will get a tour of the kitchen\, learn how we prep some of our ingredients\, get to play with some dough\, help us make some bread\, and learn to be a cashier. While the first group is in the kitchen\, the second group will be given some crayons and a color page with which they can create their own sandwich. Once the first group is done\, we will have them switch places! When everyone is done\, they will all get two pieces of cheese pizza. Finally\, we will hand out awards certificates to every student that is good for one free meal. \nWho: All ACHEV Members *While this tour is geared towards 1st-5th graders\, older and younger students are welcome to attend\, as well as parents.\nWhen: Thursday\, November 7th 8:45am – 10:15am\n*Please arrive 5-10 min early (8:35-8:40) to check in and be ready to begin on time\nCost: Free\nContact: Bonnie Adair bonnieadair@verizon.net 805-504-6457 \nNotes/Additional Info: Limited to 30 people. They will take 15 at a time into the kitchen area. \nSign Up Using the Google This Google Doc by October 28th
URL:https://achev.org/event/field-trip-urbane-cafe-thousand-oaks/
LOCATION:Urbane Cafe Thousand Oaks\, 50 East Thousand Oaks Blvd\, Thousand Oaks\, CA\, 91360\, United States
CATEGORIES:Field Trip
ORGANIZER;CN="Bonnie%20Adair":MAILTO:bonnieadair@verizon.net
END:VEVENT
BEGIN:VEVENT
DTSTART;TZID=America/Los_Angeles:20241108T170000
DTEND;TZID=America/Los_Angeles:20241108T180000
DTSTAMP:20260419T130553
CREATED:20241025T200713Z
LAST-MODIFIED:20241025T203243Z
UID:22499-1731085200-1731088800@achev.org
SUMMARY:Field Trip - Brainstormz Robotics Lab
DESCRIPTION:What: The award-winning high school robotics team\, Brainstormz\, is inviting ACHEV to visit their lab where you can learn about what they do.  There will be some hands-on fun where the kids can drive a robot and learn about the equipment. \n \nWho: ACHEV members all ages \nCost: Free \nParking instructions:  Pull into the drive way\, drive along the right side of the house\, park in the open space past the pool. The lab is in the garage. \nSign Up Here\nSpace is limited to 10 families due to parking and lab space constraints.  \n  \n 
URL:https://achev.org/event/field-trip-brainstormz-robotics-lab/
LOCATION:Penrose Residence\, 499 Paseo Grande\, Thousand Oaks\, CA\, 91320\, United States
CATEGORIES:Field Trip
END:VEVENT
END:VCALENDAR