BEGIN:VCALENDAR
VERSION:2.0
PRODID:-//ACHEV - ECPv6.2.0.1//NONSGML v1.0//EN
CALSCALE:GREGORIAN
METHOD:PUBLISH
X-WR-CALNAME:ACHEV
X-ORIGINAL-URL:https://achev.org
X-WR-CALDESC:Events for ACHEV
REFRESH-INTERVAL;VALUE=DURATION:PT1H
X-Robots-Tag:noindex
X-PUBLISHED-TTL:PT1H
BEGIN:VTIMEZONE
TZID:America/Los_Angeles
BEGIN:DAYLIGHT
TZOFFSETFROM:-0800
TZOFFSETTO:-0700
TZNAME:PDT
DTSTART:20260308T100000
END:DAYLIGHT
BEGIN:STANDARD
TZOFFSETFROM:-0700
TZOFFSETTO:-0800
TZNAME:PST
DTSTART:20261101T090000
END:STANDARD
END:VTIMEZONE
BEGIN:VEVENT
DTSTART;TZID=America/Los_Angeles:20260207T190000
DTEND;TZID=America/Los_Angeles:20260207T220000
DTSTAMP:20260419T064952
CREATED:20251229T225334Z
LAST-MODIFIED:20251229T225640Z
UID:23780-1770490800-1770501600@achev.org
SUMMARY:Sock Hop at House of Dance
DESCRIPTION:What: The ACHEV Sock Hop Dance is ballroom and swing dancing for 6th grade and older\, featuring lots of oldies tunes\, and we will do some fun group dances as well.  1950’s Period dress is encouraged.  Please pay attention that you must: \n\nRSVP required by using this Sign Up Sheet\nBe on time – please arrive at 6:45 to check in at the front and take photos.\nParticipate in the dance lesson that begins at 7pm\, and most importantly…\nCome prepared to dance the night away with new friends\, have a good attitude and do your best!\n\nWe will start with a lesson (TBD) from 7-7:30.   Then there will be free dancing from 7:30-10:00.  There will be a variety of oldies tunes and we will do some group dances as well as lots of partner dancing with a mixture of swing\, Latin\, and smooth ballroom dances. \nWe need volunteers to help with the dance.  Click here to help. \nWhen:  Saturday\, February 7th\, from 7pm-10:00pm. \nWhere: House of Dance: 3007 Bunsen Ave Ste E\, Ventura\, CA https://www.pmhouseofdance.com/ \nCost: $15 per student and includes a 30 minute professional dance lesson at the beginning from 7:00-7:30\, taught by Patricia Monico. \nPayment: Payment in advance is very helpful \, but not required.  You can pay with cash\, check\, or Zelle when you arrive. \n        Advance Payment Options: \n\nDeliver Cash or check (made payable to “ACHEV”) to Bonnie Adair in person at 174 Granada Street\, Camarillo\, CA 93010.  You can drop in my mailbox in an envelope with a note\, send through USPS\, or meet up with me somewhere.\nZelle: ACHEV can now accept Zelle payments to achevmail@gmail.com.  If you use Zelle please include a note that payment is for the sock hop dance and list the names of the students/grads/guests you are paying for.\nPayments for this dance are going through ACHEV.  Please don’t send any personal payments to Bonnie or payment to House of Dance.  I will be collecting all payments through ACHEV and delivering payment to House of Dance in one lump-sum.\n\nRefunds: If you pay in advance\, I will gladly give you a refund if you notify me by Noon on the day of the dance if you are unable to come.  Please don’t No-Show. \nWho: ACHEV members 6th Grade and up\, ACHEV parents\,  siblings of ACHEV members (6th+)\, and ACHEV graduates are also welcome.  Parents are welcome and encouraged to join in the dancing as well as the lesson.  **NO younger siblings at this dance. \nGuests:  ACHEV members may invite guests beginning Jan 23rd.   Clear your guests by emailing or texting Bonnie to bonnieadair@verizon.net 805-504-6457 with names\, ages and their chaperone.  Guests outside of ACHEV will not be approved until January 23rd due to limited space at this venue.  Please do not share the sign up sheet links outside of ACHEV.  Make sure to confirm that guests have read the dress code and etiquette\, and please make sure they know that younger siblings are not permitted to be present.  The information is available below to copy and paste (with the exception of sign up sheet links) and share with them and is also included on the sign-up sheet. \nChaperones: Each student under 18 must have a parent chaperone.  You may have another parent chaperone in your place.  Chaperones are responsible for the behavior and safety of their children for the duration of the event.  Please make sure to include chaperone names for your student(s) on the sign up sheet.  All Chaperones need to be signed up on the sign up sheet because the building has a maximum capacity that we need to be careful to observe. \nWhat to Bring: \n\nYour own water bottles (parents\, too).  Please help us reduce cost and waste.  We will have water and cups available for refilling your water bottles\, or in case someone forgets theirs.\nFinger Food Snack to share with the group.\nGirls\, if you are going to wear heels\, please bring a pair of more comfortable shoes in case your feet can’t stand it anymore.  This might be a good idea for boys\, too\, if they are wearing a new pair of dress shoes.  No going barefoot.  It will hurt if you get stepped on.\n\nPlease carefully read the dress code and etiquette guidelines below and share with your guests: \nDress Code:  \nWe do not want to have to send anyone home\, so please\, follow the guidelines.  If you are having trouble\, reach out and ask questions or ask to borrow something. \nBoys: \n\nCollared T Shirts\, T Shirts are OK for the Sock Hop\nSlacks\, Jeans are OK for the Sock Hop\, but jeans must not have holes in them.\nClosed toe shoes: Absolutely no flip flops\, socks or bare feet.   It is hard to dance when your shoes are super sticky/grippy on the dance floor.  If you don’t have dress/dance shoes\, Converse/Keds type shoes work OK.\n\nGirls: \n\n Skirts or dresses knee length or longer. (This means touching the top of the knee\, regardless of leggings.) If there is a lace overlay\, the skirt underneath (solid fabric) needs to touch the knee.\nSlits in skirts cannot rise above the top of the knee regardless of leggings underneath.  If you skirt/dress just touches the top of the knee and it has a slit in it\, it is too short.  You can stitch up a slit or use safety pins to close it up.\nLeggings or shorts are required if the skirt rises past the knees while twirling.  It’s a good policy to wear shorts or leggings under your skirts regardless of length.\nNo low-cut\, strapless\, backless\, or halter tops. Straps need to be at least one inch wide. No exposed cleavage or bra straps.  If you aren’t sure\, wear a cardigan over your dress.\nIf your top is sheer or see through\, you need to have solid straps underneath that are at least one inch wide.\nNo pants (other than leggings under your skirt or dress).\nClosed toe shoes are recommended.  We recommend no slingback shoes.  Absolutely no flip flops\, socks\, or bare feet.  It is hard to dance when your shoes are super sticky/grippy on the dance floor.   If you don’t have dress/dance shoes\, Converse/Keds type shoes work OK.  If the girls want to wear heels\, please bring a second pair of shoes that will be more comfortable in case they need/want to remove their heels.\n\nPlease view the visual dress code: Sock Hop Visual Dress Code \nBasic Dance Etiquette.  Please go over this with your dancers: \nFor Boys: \n\nAsk a variety of girls to dance.  They are waiting for you to ask.  We ask that all young men practice an attitude of chivalry.\nYou may be nervous asking a girl to dance. That is ok. She is probably nervous waiting to be asked.\nOffer her your hand or your arm and escort her onto the dance floor.\nWhen the dance is over\, escort her off the floor and thank her for the dance.\nIf we announce a Sadie Hawkins dance\, and you decline an offer to dance\, you will rest for the entire song.\n\nFor Girls: \n\nIf a boy asks you to dance\, graciously accept his offer unless you need to rest or take a breather\, in which case you may say “no thank you”.  If you decline an offer to dance\, you will rest for the duration of that song.\nIf you stand with your friends in a closed circle\, it is hard and nerve wracking for a boy to ask you to dance. Make yourself available by opening up your circle.\n\nFor Both: \n\nEvery dance has first time attendees. Make an effort to reach out to them and include them in your conversations.\nNot everyone knows how to dance…that is ok. Everyone has to begin sometime.\nA Sadie Hawkins dance is when a girl can ask a boy to dance.  The boys are to do the asking unless we announce a Sadie Hawkins dance.\n\nSign Up for the Dance Here\n \n  \n  \n 
URL:https://achev.org/event/sock-hop-at-house-of-dance/
LOCATION:House of Dance\, 3007 Bunsen Ave\, Suite E\, Ventura\, CA\, 93003\, United States
CATEGORIES:Dance
ORGANIZER;CN="Bonnie%20Adair":MAILTO:bonnieadair@verizon.net
END:VEVENT
END:VCALENDAR