BEGIN:VCALENDAR
VERSION:2.0
PRODID:-//ACHEV - ECPv6.2.0.1//NONSGML v1.0//EN
CALSCALE:GREGORIAN
METHOD:PUBLISH
X-WR-CALNAME:ACHEV
X-ORIGINAL-URL:https://achev.org
X-WR-CALDESC:Events for ACHEV
REFRESH-INTERVAL;VALUE=DURATION:PT1H
X-Robots-Tag:noindex
X-PUBLISHED-TTL:PT1H
BEGIN:VTIMEZONE
TZID:America/Los_Angeles
BEGIN:DAYLIGHT
TZOFFSETFROM:-0800
TZOFFSETTO:-0700
TZNAME:PDT
DTSTART:20240310T100000
END:DAYLIGHT
BEGIN:STANDARD
TZOFFSETFROM:-0700
TZOFFSETTO:-0800
TZNAME:PST
DTSTART:20241103T090000
END:STANDARD
END:VTIMEZONE
BEGIN:VEVENT
DTSTART;TZID=America/Los_Angeles:20240129T153000
DTEND;TZID=America/Los_Angeles:20240129T173000
DTSTAMP:20260424T160212
CREATED:20240119T205338Z
LAST-MODIFIED:20240119T210158Z
UID:21501-1706542200-1706549400@achev.org
SUMMARY:Middle & High School Art Classes
DESCRIPTION:You must register in advance for these classes\, as space is very limited.  See details below to register.\nRegister at www.Art-n-You.com/classes. Questions? Call Michelle 805 443-1555 \nPayments accepted thru Venmo\, Google Pay\, cash\, or check\nACHEV Art Class 2024 \n805.443.1555\n930 Hickory View Circle\nCamarillo\, CA 93012 \nVision Boards -Mixed Media\n2 weeks – Mondays 3:30 – 5:30 pm\nJan 29 & Feb 5\n$65 – includes supplies\nAs we begin our new year what do you want to focus on? Or is there\na scripture that inspires you?\nIn this workshop we will experiment with collage\, printing\, painting\,\nsplashing and having fun with acrylic paints! Art will be on a canvas\nboard. Please cut out some pictures from a magazine or have a\nword for this project. \nExpand Your Drawing Skills\n5 weeks – Mondays 3:30 – 5:00 pm\nFeb 26\, Mar 4-25\n$90\nStudents will bring their sketchbooks to class and learn how to\nemphasize value and work on their sketching skills which are\nfundamental to drawing and painting. We will begin with a still life\,\nperspective of a castle\, portrait as well as a figure. I will assign\nhomework so they can continue exercises outside of class. \nPortraiture with Oil Paints\n4 weeks – Mondays 3:00 – 5:30 pm\nApril 1 – 22 (no joke!)\n$185 – includes oil paints only\nBuilding on the idea of value we will sketch out a simple portrait and\nthen learn how to mix flesh tones for light and in shadow.\nPease bring 2 filbert brushes (#8 & 10 – they are roughly ¼ and ½ “\nwide)\, a variety of flats and round brushes\, 2 canvases or canvas\nboards\, and a roll of paper towels or a rag to clean brushes.\nRegister at www.Art-n-You.com/classes. Questions? Call Michelle
URL:https://achev.org/event/middle-high-school-art-classes/
LOCATION:Art-N-You\, 930 Hickory View Circle\, Camarillo\, CA\, 93012\, United States
CATEGORIES:Classes
ORGANIZER;CN="Bonnie%20Adair":MAILTO:bonnieadair@verizon.net
END:VEVENT
END:VCALENDAR