BEGIN:VCALENDAR
VERSION:2.0
PRODID:-//ACHEV - ECPv6.2.0.1//NONSGML v1.0//EN
CALSCALE:GREGORIAN
METHOD:PUBLISH
X-ORIGINAL-URL:https://achev.org
X-WR-CALDESC:Events for ACHEV
REFRESH-INTERVAL;VALUE=DURATION:PT1H
X-Robots-Tag:noindex
X-PUBLISHED-TTL:PT1H
BEGIN:VTIMEZONE
TZID:America/Los_Angeles
BEGIN:DAYLIGHT
TZOFFSETFROM:-0800
TZOFFSETTO:-0700
TZNAME:PDT
DTSTART:20230312T100000
END:DAYLIGHT
BEGIN:STANDARD
TZOFFSETFROM:-0700
TZOFFSETTO:-0800
TZNAME:PST
DTSTART:20231105T090000
END:STANDARD
END:VTIMEZONE
BEGIN:VEVENT
DTSTART;TZID=America/Los_Angeles:20230531T160000
DTEND;TZID=America/Los_Angeles:20230531T170000
DTSTAMP:20260425T171915
CREATED:20230504T033604Z
LAST-MODIFIED:20230504T033604Z
UID:20461-1685548800-1685552400@achev.org
SUMMARY:Beginner Dance Workshop- Nightclub Two-Step
DESCRIPTION:What:  This is a beginner friendly\, one-time workshop to learn the basics of Nightclub Two-Step.  Be prepared for the next dance with some moves and learn how to lead (boys) and follow (girls).  This is a slower smooth dance and we use this dance at a lot of our dance parties. \nWho: ACHEV members\, graduates and invited guests/siblings.    Ages 11+ .   We must have equal number boys and girls in order for the class to work.  Minimum of 4 boys and 4 girls in order to hold these classes.  Partners rotate throughout the class. \nWhere: House of Dance \, 3007 Bunsen Ave\, Ventura 93003   https://www.pmhouseofdance.com/ \nWhen: Wednesday May 31st 4pm – 5:00 pm \nCost: $12 per student. \nSign Up Sheet **If you are a guest/non-ACHEV sibling or a graduate\, please sign up in the designated area at the bottom of the sign up sheet.  We want to make sure that priority goes to current ACHEV members.   Guests and Grads will be moved to the regular sign up sheet starting May 15th as space is available. \nWe must have an even number of boys and girls.  Any girls in excess of boys\, or vice versa\, are considered to be on the waitlist.  We must have a minimum of 4 boys and 4 girls to proceed with the class. \nQuestions? Contact Bonnie Adair at bonnieadair@verizon.net.
URL:https://achev.org/event/beginner-dance-workshop-nightclub-two-step/
LOCATION:House of Dance\, 3007 Bunsen Ave\, Suite E\, Ventura\, CA\, 93003\, United States
CATEGORIES:Classes
ORGANIZER;CN="Bonnie%20Adair":MAILTO:bonnieadair@verizon.net
END:VEVENT
END:VCALENDAR