BEGIN:VCALENDAR
VERSION:2.0
PRODID:-//ACHEV - ECPv6.2.0.1//NONSGML v1.0//EN
CALSCALE:GREGORIAN
METHOD:PUBLISH
X-WR-CALNAME:ACHEV
X-ORIGINAL-URL:https://achev.org
X-WR-CALDESC:Events for ACHEV
REFRESH-INTERVAL;VALUE=DURATION:PT1H
X-Robots-Tag:noindex
X-PUBLISHED-TTL:PT1H
BEGIN:VTIMEZONE
TZID:America/Los_Angeles
BEGIN:DAYLIGHT
TZOFFSETFROM:-0800
TZOFFSETTO:-0700
TZNAME:PDT
DTSTART:20240310T100000
END:DAYLIGHT
BEGIN:STANDARD
TZOFFSETFROM:-0700
TZOFFSETTO:-0800
TZNAME:PST
DTSTART:20241103T090000
END:STANDARD
END:VTIMEZONE
BEGIN:VEVENT
DTSTART;TZID=America/Los_Angeles:20240605T160000
DTEND;TZID=America/Los_Angeles:20240605T170000
DTSTAMP:20260424T040100
CREATED:20240513T210231Z
LAST-MODIFIED:20240610T222836Z
UID:21869-1717603200-1717606800@achev.org
SUMMARY:**Cancelled**Ballroom Dance: Salsa Class
DESCRIPTION:Sorry\, this class series was cancelled due to low enrollment \nWhat: Private ballroom dance classes for ACHEV at House of Dance – Lesson for 45 minutes\, dance practice to music for 15 minutes.  This is a 4-class series taking place on Wednesdays June 5\, 12\, 19 &26.  We will NOT start at the beginning level.  If you have not taken Salsa before\, you need to take the beginner workshop on May 26 .  We will not be able to add new people once the series has begun. \nIn June\, we will be learning Salsa.  We may continue with this Salsa group in July as well so you can learn even more\, depending on the feedback I get. \nWho: ACHEV members\, grads & guests 11 and up.  ACHEV Members can invite guests: guests do not need to be ACHEV members\, but need to be homeschooled.  Please clear invited homeschooling friends through Bonnie at bonnieadair@verizon.net.   Current ACHEV members are given priority on the sign up sheet\, ACHEV grads next\, and then guests.  ACHEV members\, sign up asap because I will start adding grads and guests as I see space available\, or a need to fill spots.  We must have equal number boys and girls in order for the class to work.  We can keep a waitlist in case space opens up prior to the first class in a series.  Minimum of 4 boys and 4 girls in order to hold these classes.  Partners rotate throughout the class. \nWhere: House of Dance \, 3007 Bunsen Ave\, Ventura 93003   https://www.pmhouseofdance.com/ \nWhen: Wednesdays 4pm – 5:00 pm \nCost: $40 per student per month\, payable by 6/5.    Pay in advance via Venmo or Zelle (info at https://www.pmhouseofdance.com/)  Or pay with cash or check when you arrive.  If you pay via Venmo or Zelle\, please include a note “ACHEV Homeschool class” \nWhat to Bring & Wear: Bring your own water bottles.  There is no drinking fountain.  There is no special dress code\, other than ACHEV’s general dress code for all events which is\, “modest and appropriate for the occasion”.   Some girls choose to wear dresses and skirts\, but you can wear pants or shorts.  Boys can wear pants or shorts.  Be comfortable.  If you do not have felt bottomed dance shoes (felt bottomed dance shoes are ideal)\, try to choose a shoe that is not grippy and rubbery on bottom.  Leather soled dress shoes or Vans-type skateboard shoes are okay.  Absolutely NO flip flops.  No sandals\, no Uggs.  Boots are not good for ballroom or swing dancing.  You want to be able to slide/glide on the floor\, turn easily on your toes and point your toes. \nPayment Policy: \nPayment for each series is due in full at the beginning of the first class of the month.  There will be no refunds or credits for missed classes.  We understand that sometimes illness or unexpected circumstances come up on short notice\, but in order to keep these classes affordable\, House of Dance cannot issue refunds or credits.    If you know before a series starts that you will need to miss a class\, please check with the organizer to make sure that will be okay before signing up (it depends on a variety of factors)\, and the full amount of the series will still be due at the first class. \nThese classes are not drop-in classes.  Signing up in advance is required.  If you sign up for a series\, your classmates are counting on you to be there for all the classes other than illness or other unavoidable/unforeseen circumstances\, because these classes are most enjoyable when everyone has a partner.  Additionally\, learning dance is sequential and if you are not able to attend the first class\, or will have to miss more than one class\, it can be difficult to catch up and it can hold up others in the class. \nIf you have special circumstances\, please feel free to talk to me about it!  .  Bonnieadair@verizon.net or 805-504-6457 call or text. \nWe must have an even number of boys and girls.  Any girls in excess of boys\, or vice versa\, are considered to be on the waitlist.  We must have a minimum of 4 boys and 4 girls to proceed with the class. \nSign Up Here for Salsa in June\nQuestions? Contact Bonnie Adair at bonnieadair@verizon.net.
URL:https://achev.org/event/ballroom-dance-salsa-class/
LOCATION:House of Dance\, 3007 Bunsen Ave\, Suite E\, Ventura\, CA\, 93003\, United States
CATEGORIES:Classes
ORGANIZER;CN="Bonnie%20Adair":MAILTO:bonnieadair@verizon.net
END:VEVENT
BEGIN:VEVENT
DTSTART;TZID=America/Los_Angeles:20240612T160000
DTEND;TZID=America/Los_Angeles:20240612T170000
DTSTAMP:20260424T040100
CREATED:20240513T210231Z
LAST-MODIFIED:20240610T222837Z
UID:21877-1718208000-1718211600@achev.org
SUMMARY:**Cancelled**Ballroom Dance: Salsa Class
DESCRIPTION:Sorry\, this class series was cancelled due to low enrollment \nWhat: Private ballroom dance classes for ACHEV at House of Dance – Lesson for 45 minutes\, dance practice to music for 15 minutes.  This is a 4-class series taking place on Wednesdays June 5\, 12\, 19 &26.  We will NOT start at the beginning level.  If you have not taken Salsa before\, you need to take the beginner workshop on May 26 .  We will not be able to add new people once the series has begun. \nIn June\, we will be learning Salsa.  We may continue with this Salsa group in July as well so you can learn even more\, depending on the feedback I get. \nWho: ACHEV members\, grads & guests 11 and up.  ACHEV Members can invite guests: guests do not need to be ACHEV members\, but need to be homeschooled.  Please clear invited homeschooling friends through Bonnie at bonnieadair@verizon.net.   Current ACHEV members are given priority on the sign up sheet\, ACHEV grads next\, and then guests.  ACHEV members\, sign up asap because I will start adding grads and guests as I see space available\, or a need to fill spots.  We must have equal number boys and girls in order for the class to work.  We can keep a waitlist in case space opens up prior to the first class in a series.  Minimum of 4 boys and 4 girls in order to hold these classes.  Partners rotate throughout the class. \nWhere: House of Dance \, 3007 Bunsen Ave\, Ventura 93003   https://www.pmhouseofdance.com/ \nWhen: Wednesdays 4pm – 5:00 pm \nCost: $40 per student per month\, payable by 6/5.    Pay in advance via Venmo or Zelle (info at https://www.pmhouseofdance.com/)  Or pay with cash or check when you arrive.  If you pay via Venmo or Zelle\, please include a note “ACHEV Homeschool class” \nWhat to Bring & Wear: Bring your own water bottles.  There is no drinking fountain.  There is no special dress code\, other than ACHEV’s general dress code for all events which is\, “modest and appropriate for the occasion”.   Some girls choose to wear dresses and skirts\, but you can wear pants or shorts.  Boys can wear pants or shorts.  Be comfortable.  If you do not have felt bottomed dance shoes (felt bottomed dance shoes are ideal)\, try to choose a shoe that is not grippy and rubbery on bottom.  Leather soled dress shoes or Vans-type skateboard shoes are okay.  Absolutely NO flip flops.  No sandals\, no Uggs.  Boots are not good for ballroom or swing dancing.  You want to be able to slide/glide on the floor\, turn easily on your toes and point your toes. \nPayment Policy: \nPayment for each series is due in full at the beginning of the first class of the month.  There will be no refunds or credits for missed classes.  We understand that sometimes illness or unexpected circumstances come up on short notice\, but in order to keep these classes affordable\, House of Dance cannot issue refunds or credits.    If you know before a series starts that you will need to miss a class\, please check with the organizer to make sure that will be okay before signing up (it depends on a variety of factors)\, and the full amount of the series will still be due at the first class. \nThese classes are not drop-in classes.  Signing up in advance is required.  If you sign up for a series\, your classmates are counting on you to be there for all the classes other than illness or other unavoidable/unforeseen circumstances\, because these classes are most enjoyable when everyone has a partner.  Additionally\, learning dance is sequential and if you are not able to attend the first class\, or will have to miss more than one class\, it can be difficult to catch up and it can hold up others in the class. \nIf you have special circumstances\, please feel free to talk to me about it!  .  Bonnieadair@verizon.net or 805-504-6457 call or text. \nWe must have an even number of boys and girls.  Any girls in excess of boys\, or vice versa\, are considered to be on the waitlist.  We must have a minimum of 4 boys and 4 girls to proceed with the class. \nSign Up Here for Salsa in June\nQuestions? Contact Bonnie Adair at bonnieadair@verizon.net.
URL:https://achev.org/event/ballroom-dance-salsa-class/2024-06-12/
LOCATION:House of Dance\, 3007 Bunsen Ave\, Suite E\, Ventura\, CA\, 93003\, United States
CATEGORIES:Classes
ORGANIZER;CN="Bonnie%20Adair":MAILTO:bonnieadair@verizon.net
END:VEVENT
BEGIN:VEVENT
DTSTART;TZID=America/Los_Angeles:20240619T160000
DTEND;TZID=America/Los_Angeles:20240619T170000
DTSTAMP:20260424T040100
CREATED:20240513T210231Z
LAST-MODIFIED:20240610T222837Z
UID:21878-1718812800-1718816400@achev.org
SUMMARY:**Cancelled**Ballroom Dance: Salsa Class
DESCRIPTION:Sorry\, this class series was cancelled due to low enrollment \nWhat: Private ballroom dance classes for ACHEV at House of Dance – Lesson for 45 minutes\, dance practice to music for 15 minutes.  This is a 4-class series taking place on Wednesdays June 5\, 12\, 19 &26.  We will NOT start at the beginning level.  If you have not taken Salsa before\, you need to take the beginner workshop on May 26 .  We will not be able to add new people once the series has begun. \nIn June\, we will be learning Salsa.  We may continue with this Salsa group in July as well so you can learn even more\, depending on the feedback I get. \nWho: ACHEV members\, grads & guests 11 and up.  ACHEV Members can invite guests: guests do not need to be ACHEV members\, but need to be homeschooled.  Please clear invited homeschooling friends through Bonnie at bonnieadair@verizon.net.   Current ACHEV members are given priority on the sign up sheet\, ACHEV grads next\, and then guests.  ACHEV members\, sign up asap because I will start adding grads and guests as I see space available\, or a need to fill spots.  We must have equal number boys and girls in order for the class to work.  We can keep a waitlist in case space opens up prior to the first class in a series.  Minimum of 4 boys and 4 girls in order to hold these classes.  Partners rotate throughout the class. \nWhere: House of Dance \, 3007 Bunsen Ave\, Ventura 93003   https://www.pmhouseofdance.com/ \nWhen: Wednesdays 4pm – 5:00 pm \nCost: $40 per student per month\, payable by 6/5.    Pay in advance via Venmo or Zelle (info at https://www.pmhouseofdance.com/)  Or pay with cash or check when you arrive.  If you pay via Venmo or Zelle\, please include a note “ACHEV Homeschool class” \nWhat to Bring & Wear: Bring your own water bottles.  There is no drinking fountain.  There is no special dress code\, other than ACHEV’s general dress code for all events which is\, “modest and appropriate for the occasion”.   Some girls choose to wear dresses and skirts\, but you can wear pants or shorts.  Boys can wear pants or shorts.  Be comfortable.  If you do not have felt bottomed dance shoes (felt bottomed dance shoes are ideal)\, try to choose a shoe that is not grippy and rubbery on bottom.  Leather soled dress shoes or Vans-type skateboard shoes are okay.  Absolutely NO flip flops.  No sandals\, no Uggs.  Boots are not good for ballroom or swing dancing.  You want to be able to slide/glide on the floor\, turn easily on your toes and point your toes. \nPayment Policy: \nPayment for each series is due in full at the beginning of the first class of the month.  There will be no refunds or credits for missed classes.  We understand that sometimes illness or unexpected circumstances come up on short notice\, but in order to keep these classes affordable\, House of Dance cannot issue refunds or credits.    If you know before a series starts that you will need to miss a class\, please check with the organizer to make sure that will be okay before signing up (it depends on a variety of factors)\, and the full amount of the series will still be due at the first class. \nThese classes are not drop-in classes.  Signing up in advance is required.  If you sign up for a series\, your classmates are counting on you to be there for all the classes other than illness or other unavoidable/unforeseen circumstances\, because these classes are most enjoyable when everyone has a partner.  Additionally\, learning dance is sequential and if you are not able to attend the first class\, or will have to miss more than one class\, it can be difficult to catch up and it can hold up others in the class. \nIf you have special circumstances\, please feel free to talk to me about it!  .  Bonnieadair@verizon.net or 805-504-6457 call or text. \nWe must have an even number of boys and girls.  Any girls in excess of boys\, or vice versa\, are considered to be on the waitlist.  We must have a minimum of 4 boys and 4 girls to proceed with the class. \nSign Up Here for Salsa in June\nQuestions? Contact Bonnie Adair at bonnieadair@verizon.net.
URL:https://achev.org/event/ballroom-dance-salsa-class/2024-06-19/
LOCATION:House of Dance\, 3007 Bunsen Ave\, Suite E\, Ventura\, CA\, 93003\, United States
CATEGORIES:Classes
ORGANIZER;CN="Bonnie%20Adair":MAILTO:bonnieadair@verizon.net
END:VEVENT
BEGIN:VEVENT
DTSTART;TZID=America/Los_Angeles:20240622T130000
DTEND;TZID=America/Los_Angeles:20240622T140000
DTSTAMP:20260424T040100
CREATED:20240603T044223Z
LAST-MODIFIED:20240617T042134Z
UID:21983-1719061200-1719064800@achev.org
SUMMARY:**Cancelled**Beginner East Coast Swing Workshop for Youth & Parents
DESCRIPTION:**Sorry\, this class has been cancelled due to low enrollment** \nWhat: Private East Coast swing workshop for ACHEV at House of Dance.  This class is open to ACHEV youth and ACHEV parent couples (guest policy below).  Parents may sign up and attend as a couple and will not rotate partners during the class.  Youth will rotate partners as we usually do in class. \nHere’s a chance to learn or review the basic steps of East Coast Swing and learn how to lead and follow right before the 80’s dance.  If you are bringing guests to the dance\, consider inviting them to this class.  Parent Couples are welcome and encouraged to join this class. \nWho: ACHEV students\, ACHEV parents\, grads & guests 11 and up.  Only ACHEV Members can invite guests.  Please clear invited homeschooling friends through Bonnie at bonnieadair@verizon.net.   Current ACHEV members are given priority on the sign up sheet\, ACHEV grads next\, and then guests.   We must have equal number boys and girls in order for the class to work.  We can keep a waitlist in case space opens up prior to the first class in a series.  Minimum of 4 boys and 4 girls in order to hold these classes.  Partners rotate throughout the class. \nWhere: House of Dance \, 3007 Bunsen Ave\, Ventura 93003   https://www.pmhouseofdance.com/ \nWhen: Saturday 6/22/24 1:00-2:00 \nCost: $12 per person. or $20 per person for both workshops on 6/22.    Pay in advance via Venmo or Zelle (info at https://www.pmhouseofdance.com/)  Or pay with cash or check when you arrive.  If you pay via Venmo or Zelle\, please include a note “ACHEV Homeschool class” \nWhat to Bring & Wear: Bring your own water bottles.  There is no drinking fountain.  There is no special dress code\, other than ACHEV’s general dress code for all events which is\, “modest and appropriate for the occasion”.   Some girls choose to wear dresses and skirts\, but you can wear pants or shorts.  Boys can wear pants or shorts.  Be comfortable.  If you do not have felt bottomed dance shoes\, try to choose a shoe that is not grippy and rubbery on bottom like a basketball shoe.  Leather soled dress shoes or Vans-type skateboard shoes are okay.  Absolutely NO flip flops.  No sandals\, no Uggs. \nThis is not a drop-in class.  Signing up in advance is required.  If you sign up for a class\, your classmates are counting on you to be there. \nWe must have an even number of boys and girls.  Any girls in excess of boys\, or vice versa\, are considered to be on the waitlist.  We must have a minimum of 4 boys and 4 girls to proceed with the class. \nSign Up Here For the East Coast Swing Workshop\nQuestions? Contact Bonnie Adair at bonnieadair@verizon.net. \n 
URL:https://achev.org/event/21983/
LOCATION:House of Dance\, 3007 Bunsen Ave\, Suite E\, Ventura\, CA\, 93003\, United States
CATEGORIES:Classes
ORGANIZER;CN="Bonnie%20Adair":MAILTO:bonnieadair@verizon.net
END:VEVENT
BEGIN:VEVENT
DTSTART;TZID=America/Los_Angeles:20240622T140000
DTEND;TZID=America/Los_Angeles:20240622T150000
DTSTAMP:20260424T040100
CREATED:20240603T051128Z
LAST-MODIFIED:20240617T042053Z
UID:21988-1719064800-1719068400@achev.org
SUMMARY:**Cancelled**East Coast Swing - Next Level Workshop Youth & Parents
DESCRIPTION:**Sorry\, this class has been cancelled due to low enrollment** \nWhat: Private East Coast swing workshop for ACHEV at House of Dance.  This class will teach beyond the basic steps that will be taught in the 1:00  beginner workshop.  This class  is open to ACHEV youth and ACHEV parent couples (guest policy below).  Parents may sign up and attend as a couple and will not rotate partners during the class.  Youth will rotate partners as we usually do in class. \nHere’s a chance to review east coast swing and learn some new moves right before the 80’s dance.  If you are bringing guests to the dance\, consider inviting them to this class.  Parent Couples are welcome and encouraged to join this class. \nWho: ACHEV students\, ACHEV parents\, grads & guests 11 and up.  Only ACHEV Members can invite guests.  Please clear invited homeschooling friends through Bonnie at bonnieadair@verizon.net.   Current ACHEV members are given priority on the sign up sheet\, ACHEV grads next\, and then guests.   We must have equal number boys and girls in order for the class to work.  We can keep a waitlist in case space opens up prior to the first class in a series.  Minimum of 4 boys and 4 girls in order to hold these classes.  Partners rotate throughout the class. \nWhere: House of Dance \, 3007 Bunsen Ave\, Ventura 93003   https://www.pmhouseofdance.com/ \nWhen: Saturday 6/22/24 2:00-3:00 \nCost: $12 per person. or $20 per person for both workshops on 6/22.    Pay in advance via Venmo or Zelle (info at https://www.pmhouseofdance.com/)  Or pay with cash or check when you arrive.  If you pay via Venmo or Zelle\, please include a note “ACHEV Homeschool class” \nWhat to Bring & Wear: Bring your own water bottles.  There is no drinking fountain.  There is no special dress code\, other than ACHEV’s general dress code for all events which is\, “modest and appropriate for the occasion”.   Some girls choose to wear dresses and skirts\, but you can wear pants or shorts.  Boys can wear pants or shorts.  Be comfortable.  If you do not have felt bottomed dance shoes\, try to choose a shoe that is not grippy and rubbery on bottom like a basketball shoe.  Leather soled dress shoes or Vans-type skateboard shoes are okay.  Absolutely NO flip flops.  No sandals\, no Uggs. \nThis is not a drop-in class.  Signing up in advance is required.  If you sign up for a class\, your classmates are counting on you to be there. \nWe must have an even number of boys and girls.  Any girls in excess of boys\, or vice versa\, are considered to be on the waitlist.  We must have a minimum of 4 boys and 4 girls to proceed with the class. \nSign Up Here For the East Coast Swing Workshop\nQuestions? Contact Bonnie Adair at bonnieadair@verizon.net. \n 
URL:https://achev.org/event/east-coast-swing-next-level-workshop-youth-parents/
LOCATION:House of Dance\, 3007 Bunsen Ave\, Suite E\, Ventura\, CA\, 93003\, United States
CATEGORIES:Classes
ORGANIZER;CN="Bonnie%20Adair":MAILTO:bonnieadair@verizon.net
END:VEVENT
BEGIN:VEVENT
DTSTART;TZID=America/Los_Angeles:20240626T160000
DTEND;TZID=America/Los_Angeles:20240626T170000
DTSTAMP:20260424T040100
CREATED:20240513T210231Z
LAST-MODIFIED:20240610T222837Z
UID:21879-1719417600-1719421200@achev.org
SUMMARY:**Cancelled**Ballroom Dance: Salsa Class
DESCRIPTION:Sorry\, this class series was cancelled due to low enrollment \nWhat: Private ballroom dance classes for ACHEV at House of Dance – Lesson for 45 minutes\, dance practice to music for 15 minutes.  This is a 4-class series taking place on Wednesdays June 5\, 12\, 19 &26.  We will NOT start at the beginning level.  If you have not taken Salsa before\, you need to take the beginner workshop on May 26 .  We will not be able to add new people once the series has begun. \nIn June\, we will be learning Salsa.  We may continue with this Salsa group in July as well so you can learn even more\, depending on the feedback I get. \nWho: ACHEV members\, grads & guests 11 and up.  ACHEV Members can invite guests: guests do not need to be ACHEV members\, but need to be homeschooled.  Please clear invited homeschooling friends through Bonnie at bonnieadair@verizon.net.   Current ACHEV members are given priority on the sign up sheet\, ACHEV grads next\, and then guests.  ACHEV members\, sign up asap because I will start adding grads and guests as I see space available\, or a need to fill spots.  We must have equal number boys and girls in order for the class to work.  We can keep a waitlist in case space opens up prior to the first class in a series.  Minimum of 4 boys and 4 girls in order to hold these classes.  Partners rotate throughout the class. \nWhere: House of Dance \, 3007 Bunsen Ave\, Ventura 93003   https://www.pmhouseofdance.com/ \nWhen: Wednesdays 4pm – 5:00 pm \nCost: $40 per student per month\, payable by 6/5.    Pay in advance via Venmo or Zelle (info at https://www.pmhouseofdance.com/)  Or pay with cash or check when you arrive.  If you pay via Venmo or Zelle\, please include a note “ACHEV Homeschool class” \nWhat to Bring & Wear: Bring your own water bottles.  There is no drinking fountain.  There is no special dress code\, other than ACHEV’s general dress code for all events which is\, “modest and appropriate for the occasion”.   Some girls choose to wear dresses and skirts\, but you can wear pants or shorts.  Boys can wear pants or shorts.  Be comfortable.  If you do not have felt bottomed dance shoes (felt bottomed dance shoes are ideal)\, try to choose a shoe that is not grippy and rubbery on bottom.  Leather soled dress shoes or Vans-type skateboard shoes are okay.  Absolutely NO flip flops.  No sandals\, no Uggs.  Boots are not good for ballroom or swing dancing.  You want to be able to slide/glide on the floor\, turn easily on your toes and point your toes. \nPayment Policy: \nPayment for each series is due in full at the beginning of the first class of the month.  There will be no refunds or credits for missed classes.  We understand that sometimes illness or unexpected circumstances come up on short notice\, but in order to keep these classes affordable\, House of Dance cannot issue refunds or credits.    If you know before a series starts that you will need to miss a class\, please check with the organizer to make sure that will be okay before signing up (it depends on a variety of factors)\, and the full amount of the series will still be due at the first class. \nThese classes are not drop-in classes.  Signing up in advance is required.  If you sign up for a series\, your classmates are counting on you to be there for all the classes other than illness or other unavoidable/unforeseen circumstances\, because these classes are most enjoyable when everyone has a partner.  Additionally\, learning dance is sequential and if you are not able to attend the first class\, or will have to miss more than one class\, it can be difficult to catch up and it can hold up others in the class. \nIf you have special circumstances\, please feel free to talk to me about it!  .  Bonnieadair@verizon.net or 805-504-6457 call or text. \nWe must have an even number of boys and girls.  Any girls in excess of boys\, or vice versa\, are considered to be on the waitlist.  We must have a minimum of 4 boys and 4 girls to proceed with the class. \nSign Up Here for Salsa in June\nQuestions? Contact Bonnie Adair at bonnieadair@verizon.net.
URL:https://achev.org/event/ballroom-dance-salsa-class/2024-06-26/
LOCATION:House of Dance\, 3007 Bunsen Ave\, Suite E\, Ventura\, CA\, 93003\, United States
CATEGORIES:Classes
ORGANIZER;CN="Bonnie%20Adair":MAILTO:bonnieadair@verizon.net
END:VEVENT
END:VCALENDAR