BEGIN:VCALENDAR
VERSION:2.0
PRODID:-//ACHEV - ECPv6.2.0.1//NONSGML v1.0//EN
CALSCALE:GREGORIAN
METHOD:PUBLISH
X-ORIGINAL-URL:https://achev.org
X-WR-CALDESC:Events for ACHEV
REFRESH-INTERVAL;VALUE=DURATION:PT1H
X-Robots-Tag:noindex
X-PUBLISHED-TTL:PT1H
BEGIN:VTIMEZONE
TZID:America/Los_Angeles
BEGIN:DAYLIGHT
TZOFFSETFROM:-0800
TZOFFSETTO:-0700
TZNAME:PDT
DTSTART:20230312T100000
END:DAYLIGHT
BEGIN:STANDARD
TZOFFSETFROM:-0700
TZOFFSETTO:-0800
TZNAME:PST
DTSTART:20231105T090000
END:STANDARD
END:VTIMEZONE
BEGIN:VEVENT
DTSTART;TZID=America/Los_Angeles:20230607T160000
DTEND;TZID=America/Los_Angeles:20230607T170000
DTSTAMP:20260425T142852
CREATED:20230526T060809Z
LAST-MODIFIED:20230526T060809Z
UID:20539-1686153600-1686157200@achev.org
SUMMARY:Rumba Class - Session 2
DESCRIPTION:What: Private ballroom dance classes for ACHEV at House of Dance – Lesson for 45 minutes\, dance practice to music for 15 minutes.  Each series is 4 weeks.  Sometimes we will do one dance for two months in a row.  There are many fun dances to learn.  So far this school year\, we have learned Waltz\, Foxtrot\, and West Coast Swing. \nJune: In June\, we are doing a level 2 Rumba Class.  This class is only open to those students who attended Level 1 Rumba in May.  Sign up for May/June Rumba series. \nWho: ACHEV members\, non-ACHEV siblings\, and invited homeschooling friends ages 11 and up\, and recent ACHEV grads (see note on sign up sheet).  Please clear invited homeschooling friends through Bonnie at bonnieadair@verizon.net.   Current ACHEV members are given priority on the sign up sheet.  We must have equal number boys and girls in order for the class to work.  We can keep a waitlist in case space opens up prior to the first class in a series.  Minimum of 4 boys and 4 girls in order to hold these classes.  Partners rotate throughout the class. \nWhere: House of Dance \, 3007 Bunsen Ave\, Ventura 93003   https://www.pmhouseofdance.com/ \nWhen: Wednesdays 4pm – 5:00 pm\nThere will be four classes per month. For months with five Wednesdays\, we will still only have 4 classes.   \n Cost: Each 4 week session will be $40 per student.  That is only $10 per lesson per student.  Pay in advance via Venmo or Zelle (info at https://www.pmhouseofdance.com/)  Or pay with cash or check at the beginning of the first class of the month. \nWe must have an even number of boys and girls.  Any girls in excess of boys\, or vice versa\, are considered to be on the waitlist.  We must have a minimum of 4 boys and 4 girls to proceed with the class. \nQuestions? Contact Bonnie Adair at bonnieadair@verizon.net.
URL:https://achev.org/event/rumba-class-session-2/
LOCATION:House of Dance\, 3007 Bunsen Ave\, Suite E\, Ventura\, CA\, 93003\, United States
CATEGORIES:Classes
ORGANIZER;CN="Bonnie%20Adair":MAILTO:bonnieadair@verizon.net
END:VEVENT
BEGIN:VEVENT
DTSTART;TZID=America/Los_Angeles:20230614T160000
DTEND;TZID=America/Los_Angeles:20230614T170000
DTSTAMP:20260425T142852
CREATED:20230526T061022Z
LAST-MODIFIED:20230526T061022Z
UID:20541-1686758400-1686762000@achev.org
SUMMARY:Rumba Class - Session 2
DESCRIPTION:What: Private ballroom dance classes for ACHEV at House of Dance – Lesson for 45 minutes\, dance practice to music for 15 minutes.  Each series is 4 weeks.  Sometimes we will do one dance for two months in a row.  There are many fun dances to learn. \nJune: In June\, we are doing a level 2 Rumba Class.  This class is only open to those students who attended Level 1 Rumba in May.  Sign up for May/June Rumba series. \nWho: ACHEV members\, non-ACHEV siblings\, and invited homeschooling friends ages 11 and up\, and recent ACHEV grads (see note on sign up sheet).  Please clear invited homeschooling friends through Bonnie at bonnieadair@verizon.net.   Current ACHEV members are given priority on the sign up sheet.  We must have equal number boys and girls in order for the class to work.  We can keep a waitlist in case space opens up prior to the first class in a series.  Minimum of 4 boys and 4 girls in order to hold these classes.  Partners rotate throughout the class. \nWhere: House of Dance \, 3007 Bunsen Ave\, Ventura 93003   https://www.pmhouseofdance.com/ \nWhen: Wednesdays 4pm – 5:00 pm\nThere will be four classes per month. For months with five Wednesdays\, we will still only have 4 classes.   \n Cost: Each 4 week session will be $40 per student.  That is only $10 per lesson per student.  Pay in advance via Venmo or Zelle (info at https://www.pmhouseofdance.com/)  Or pay with cash or check at the beginning of the first class of the month. \nWe must have an even number of boys and girls.  Any girls in excess of boys\, or vice versa\, are considered to be on the waitlist.  We must have a minimum of 4 boys and 4 girls to proceed with the class. \nQuestions? Contact Bonnie Adair at bonnieadair@verizon.net.
URL:https://achev.org/event/rumba-class-session-2-2/
LOCATION:House of Dance\, 3007 Bunsen Ave\, Suite E\, Ventura\, CA\, 93003\, United States
CATEGORIES:Classes
ORGANIZER;CN="Bonnie%20Adair":MAILTO:bonnieadair@verizon.net
END:VEVENT
BEGIN:VEVENT
DTSTART;TZID=America/Los_Angeles:20230621T160000
DTEND;TZID=America/Los_Angeles:20230621T170000
DTSTAMP:20260425T142852
CREATED:20230526T061217Z
LAST-MODIFIED:20230526T061217Z
UID:20544-1687363200-1687366800@achev.org
SUMMARY:Rumba Class - Session 2
DESCRIPTION:What: Private ballroom dance classes for ACHEV at House of Dance – Lesson for 45 minutes\, dance practice to music for 15 minutes.  Each series is 4 weeks.  Sometimes we will do one dance for two months in a row.  There are many fun dances to learn.  So far this school year\, we have learned Waltz\, Foxtrot\, and West Coast Swing. \nJune: In June\, we are doing a level 2 Rumba Class.  This class is only open to those students who attended Level 1 Rumba in May.  Sign up for May/June Rumba series. \nWho: ACHEV members\, non-ACHEV siblings\, and invited homeschooling friends ages 11 and up\, and recent ACHEV grads (see note on sign up sheet).  Please clear invited homeschooling friends through Bonnie at bonnieadair@verizon.net.   Current ACHEV members are given priority on the sign up sheet.  We must have equal number boys and girls in order for the class to work.  We can keep a waitlist in case space opens up prior to the first class in a series.  Minimum of 4 boys and 4 girls in order to hold these classes.  Partners rotate throughout the class. \nWhere: House of Dance \, 3007 Bunsen Ave\, Ventura 93003   https://www.pmhouseofdance.com/ \nWhen: Wednesdays 4pm – 5:00 pm\nThere will be four classes per month. For months with five Wednesdays\, we will still only have 4 classes.   \n Cost: Each 4 week session will be $40 per student.  That is only $10 per lesson per student.  Pay in advance via Venmo or Zelle (info at https://www.pmhouseofdance.com/)  Or pay with cash or check at the beginning of the first class of the month. \nWe must have an even number of boys and girls.  Any girls in excess of boys\, or vice versa\, are considered to be on the waitlist.  We must have a minimum of 4 boys and 4 girls to proceed with the class. \nQuestions? Contact Bonnie Adair at bonnieadair@verizon.net.
URL:https://achev.org/event/rumba-class-session-2-3/
LOCATION:House of Dance\, 3007 Bunsen Ave\, Suite E\, Ventura\, CA\, 93003\, United States
CATEGORIES:Classes
ORGANIZER;CN="Bonnie%20Adair":MAILTO:bonnieadair@verizon.net
END:VEVENT
BEGIN:VEVENT
DTSTART;TZID=America/Los_Angeles:20230626T133000
DTEND;TZID=America/Los_Angeles:20230626T163000
DTSTAMP:20260425T142852
CREATED:20230522T214123Z
LAST-MODIFIED:20230522T214123Z
UID:20507-1687786200-1687797000@achev.org
SUMMARY:Teen Game Club
DESCRIPTION:What: Teen directed board games.   We have tons of board games.  You are welcome to bring a favorite game from home to share with the group as well.  They usually start out with board games and will migrate towards group role play games at the end of the afternoon.  They have a lot of fun.  We have snacks\, so feel free to bring one to share but it is not needed so don’t stress about bringing something. \nWho: ACHEV members 6th Grade and up\, recent ACHEV grads. \nRSVP: Is needed so that I can make sure we have enough chairs and tables out\, or in case we need to change the host home in case of illness\, etc.  Bonnieadair@verizon.net 805-504-6457 \nDrop off is okay for this event.  Feel free to go home or run errands\, etc.  If parents prefer to stay\, that is welcome as well\, and if you have younger children with you they can stay also.  Please let me know if you will be bringing younger children with you so I can plan something for our younger kids to do together while the teens have their game time. \n 
URL:https://achev.org/event/teen-game-club-7/
LOCATION:Adair Home\, 174 Granada Street\, Camarillo\, CA\, 93010\, United States
CATEGORIES:Classes
ORGANIZER;CN="Bonnie%20Adair":MAILTO:bonnieadair@verizon.net
END:VEVENT
BEGIN:VEVENT
DTSTART;TZID=America/Los_Angeles:20230628T160000
DTEND;TZID=America/Los_Angeles:20230628T170000
DTSTAMP:20260425T142852
CREATED:20230526T061353Z
LAST-MODIFIED:20230526T061353Z
UID:20546-1687968000-1687971600@achev.org
SUMMARY:Rumba Class - Session 2
DESCRIPTION:What: Private ballroom dance classes for ACHEV at House of Dance – Lesson for 45 minutes\, dance practice to music for 15 minutes.  Each series is 4 weeks.  Sometimes we will do one dance for two months in a row.  There are many fun dances to learn.  So far this school year\, we have learned Waltz\, Foxtrot\, and West Coast Swing. \nJune: In June\, we are doing a level 2 Rumba Class.  This class is only open to those students who attended Level 1 Rumba in May.  Sign up for May/June Rumba series. \nWho: ACHEV members\, non-ACHEV siblings\, and invited homeschooling friends ages 11 and up\, and recent ACHEV grads (see note on sign up sheet).  Please clear invited homeschooling friends through Bonnie at bonnieadair@verizon.net.   Current ACHEV members are given priority on the sign up sheet.  We must have equal number boys and girls in order for the class to work.  We can keep a waitlist in case space opens up prior to the first class in a series.  Minimum of 4 boys and 4 girls in order to hold these classes.  Partners rotate throughout the class. \nWhere: House of Dance \, 3007 Bunsen Ave\, Ventura 93003   https://www.pmhouseofdance.com/ \nWhen: Wednesdays 4pm – 5:00 pm\nThere will be four classes per month. For months with five Wednesdays\, we will still only have 4 classes.   \n Cost: Each 4 week session will be $40 per student.  That is only $10 per lesson per student.  Pay in advance via Venmo or Zelle (info at https://www.pmhouseofdance.com/)  Or pay with cash or check at the beginning of the first class of the month. \nWe must have an even number of boys and girls.  Any girls in excess of boys\, or vice versa\, are considered to be on the waitlist.  We must have a minimum of 4 boys and 4 girls to proceed with the class. \nQuestions? Contact Bonnie Adair at bonnieadair@verizon.net.
URL:https://achev.org/event/rumba-class-session-2-4/
LOCATION:House of Dance\, 3007 Bunsen Ave\, Suite E\, Ventura\, CA\, 93003\, United States
CATEGORIES:Classes
ORGANIZER;CN="Bonnie%20Adair":MAILTO:bonnieadair@verizon.net
END:VEVENT
END:VCALENDAR