BEGIN:VCALENDAR
VERSION:2.0
PRODID:-//ACHEV - ECPv6.2.0.1//NONSGML v1.0//EN
CALSCALE:GREGORIAN
METHOD:PUBLISH
X-WR-CALNAME:ACHEV
X-ORIGINAL-URL:https://achev.org
X-WR-CALDESC:Events for ACHEV
REFRESH-INTERVAL;VALUE=DURATION:PT1H
X-Robots-Tag:noindex
X-PUBLISHED-TTL:PT1H
BEGIN:VTIMEZONE
TZID:America/Los_Angeles
BEGIN:DAYLIGHT
TZOFFSETFROM:-0800
TZOFFSETTO:-0700
TZNAME:PDT
DTSTART:20230312T100000
END:DAYLIGHT
BEGIN:STANDARD
TZOFFSETFROM:-0700
TZOFFSETTO:-0800
TZNAME:PST
DTSTART:20231105T090000
END:STANDARD
END:VTIMEZONE
BEGIN:VEVENT
DTSTART;TZID=America/Los_Angeles:20230803T100000
DTEND;TZID=America/Los_Angeles:20230803T130000
DTSTAMP:20260419T074634
CREATED:20230725T232352Z
LAST-MODIFIED:20230803T041823Z
UID:20781-1691056800-1691067600@achev.org
SUMMARY:Beach Day - Summer's Beach
DESCRIPTION:10am – 1pm!! \n \nWhat: ACHEV Beach Day\, tots to teens!  The little kids like to play in the sand\, boogie board close to shore\, the older kids boogie board\, body surf\, dig holes and play sports on the sand.  We have a great time\, so please join us for fun\, fellowship\, and checking P.E. off your list =) \nWhere: Beach North of Emma Wood and just south of Solimar and South of Mondos.  It’s called Summer’s Beach – park for free along the highway.  Take the California State Beaches exit off the 101 fwy.   https://maps.apple.com/place?ll=34.306528\,-119.351567&q=Marked%20Location&_ext=EiQpJzQpTzwnQUAxBaWsEYDWXcA5JzQpTzwnQUBBBaWsEYDWXcA%3D&t=h  That is the marked location where we will meet.  There is a handicap ramp to take you down to the beach and a porta potty street side.  There should be a good deal of parking. \nHow to Find Us: Come Down the handicap ramp\, and if you are facing the water\, turn left and we will be close by on the left hand side (that’s the plan anyways).  You can look for my red SUV along the highway.  It’s a Subaru Ascent with a roof rack. \nDirections: The address at the marked location is 2866-2868 Pacific Coast Highway.  Take the California State Beaches exit off the 101 fwy. \nTide Forecast: https://www.surf-forecast.com/breaks/Solimar-Reef/tides/latest \nLet me know if you plan to come so we can look out for you.  Can’t wait to see you there! Email bonnieadair@verizon.net or text me at 805-504-6457\, but if I’m already at the beach\, I might not hear my phone. =)
URL:https://achev.org/event/beach-day-summers-beach-11/
LOCATION:Summer’s Beach Ventura\, is 2866-2868 Pacific Coast Highway\, Ventura\, United States
CATEGORIES:Beach Day
ORGANIZER;CN="Bonnie%20Adair":MAILTO:bonnieadair@verizon.net
END:VEVENT
BEGIN:VEVENT
DTSTART;TZID=America/Los_Angeles:20230810T110000
DTEND;TZID=America/Los_Angeles:20230810T140000
DTSTAMP:20260419T074634
CREATED:20230725T233421Z
LAST-MODIFIED:20230725T233536Z
UID:20784-1691665200-1691676000@achev.org
SUMMARY:Beach Day - Summer's Beach Ventura
DESCRIPTION:What: ACHEV Beach Day\, tots to teens!  The little kids like to play in the sand\, boogie board close to shore\, the older kids boogie board\, body surf\, dig holes and play sports on the sand.  We have a great time\, so please join us for fun\, fellowship\, and checking P.E. off your list =) \nWhere: Beach North of Emma Wood and just south of Solimar and South of Mondos.  It’s called Summer’s Beach – park for free along the highway.  Take the California State Beaches exit off the 101 fwy.   https://maps.apple.com/place?ll=34.306528\,-119.351567&q=Marked%20Location&_ext=EiQpJzQpTzwnQUAxBaWsEYDWXcA5JzQpTzwnQUBBBaWsEYDWXcA%3D&t=h  That is the marked location where we will meet.  There is a handicap ramp to take you down to the beach and a porta potty street side.  There should be a good deal of parking. \nHow to Find Us: Come Down the handicap ramp\, and if you are facing the water\, turn left and we will be close by on the left hand side (that’s the plan anyways).  You can look for my red SUV along the highway.  It’s a Subaru Ascent with a roof rack. \nDirections: The address at the marked location is 2866-2868 Pacific Coast Highway.  Take the California State Beaches exit off the 101 fwy. \nTide Forecast: https://www.surf-forecast.com/breaks/Solimar-Reef/tides/latest \nLet me know if you plan to come so we can look out for you.  Can’t wait to see you there! Email bonnieadair@verizon.net or text me at 805-504-6457\, but if I’m already at the beach\, I might not hear my phone. =)
URL:https://achev.org/event/beach-day-summers-beach-ventura/
LOCATION:Summer’s Beach Ventura\, is 2866-2868 Pacific Coast Highway\, Ventura\, United States
CATEGORIES:Beach Day
ORGANIZER;CN="Bonnie%20Adair":MAILTO:bonnieadair@verizon.net
END:VEVENT
BEGIN:VEVENT
DTSTART;TZID=America/Los_Angeles:20230814T130000
DTEND;TZID=America/Los_Angeles:20230814T160000
DTSTAMP:20260419T074634
CREATED:20230726T024254Z
LAST-MODIFIED:20230726T024254Z
UID:20786-1692018000-1692028800@achev.org
SUMMARY:Beach Day - Summer's Beach Ventura
DESCRIPTION:What: ACHEV Beach Day\, tots to teens!  The little kids like to play in the sand\, boogie board close to shore\, the older kids boogie board\, body surf\, dig holes and play sports on the sand.  We have a great time\, so please join us for fun\, fellowship\, and checking P.E. off your list =) \nWhere: Beach North of Emma Wood and just south of Solimar and South of Mondos.  It’s called Summer’s Beach – park for free along the highway.  Take the California State Beaches exit off the 101 fwy.   https://maps.apple.com/place?ll=34.306528\,-119.351567&q=Marked%20Location&_ext=EiQpJzQpTzwnQUAxBaWsEYDWXcA5JzQpTzwnQUBBBaWsEYDWXcA%3D&t=h  That is the marked location where we will meet.  There is a handicap ramp to take you down to the beach and a porta potty street side.  There should be a good deal of parking. \nHow to Find Us: Come Down the handicap ramp\, and if you are facing the water\, turn left and we will be close by on the left hand side (that’s the plan anyways).  You can look for my red SUV along the highway.  It’s a Subaru Ascent with a roof rack. \nDirections: The address at the marked location is 2866-2868 Pacific Coast Highway.  Take the California State Beaches exit off the 101 fwy. \nTide Forecast: https://www.surf-forecast.com/breaks/Solimar-Reef/tides/latest \nLet me know if you plan to come so we can look out for you.  Can’t wait to see you there! Email bonnieadair@verizon.net or text me at 805-504-6457\, but if I’m already at the beach\, I might not hear my phone. =)
URL:https://achev.org/event/beach-day-summers-beach-ventura-2/
LOCATION:Summer’s Beach Ventura\, is 2866-2868 Pacific Coast Highway\, Ventura\, United States
CATEGORIES:Beach Day
ORGANIZER;CN="Bonnie%20Adair":MAILTO:bonnieadair@verizon.net
END:VEVENT
BEGIN:VEVENT
DTSTART;TZID=America/Los_Angeles:20230824T110000
DTEND;TZID=America/Los_Angeles:20230824T140000
DTSTAMP:20260419T074634
CREATED:20230726T025932Z
LAST-MODIFIED:20230726T025932Z
UID:20789-1692874800-1692885600@achev.org
SUMMARY:Beach Day - Summer's Beach Ventura
DESCRIPTION:What: ACHEV Beach Day\, tots to teens!  The little kids like to play in the sand\, boogie board close to shore\, the older kids boogie board\, body surf\, dig holes and play sports on the sand.  We have a great time\, so please join us for fun\, fellowship\, and checking P.E. off your list =) \nWhere: Beach North of Emma Wood and just south of Solimar and South of Mondos.  It’s called Summer’s Beach – park for free along the highway.  Take the California State Beaches exit off the 101 fwy.   https://maps.apple.com/place?ll=34.306528\,-119.351567&q=Marked%20Location&_ext=EiQpJzQpTzwnQUAxBaWsEYDWXcA5JzQpTzwnQUBBBaWsEYDWXcA%3D&t=h  That is the marked location where we will meet.  There is a handicap ramp to take you down to the beach and a porta potty street side.  There should be a good deal of parking. \nHow to Find Us: Come Down the handicap ramp\, and if you are facing the water\, turn left and we will be close by on the left hand side (that’s the plan anyways).  You can look for my red SUV along the highway.  It’s a Subaru Ascent with a roof rack. \nDirections: The address at the marked location is 2866-2868 Pacific Coast Highway.  Take the California State Beaches exit off the 101 fwy. \nTide Forecast: https://www.surf-forecast.com/breaks/Solimar-Reef/tides/latest \nLet me know if you plan to come so we can look out for you.  Can’t wait to see you there! Email bonnieadair@verizon.net or text me at 805-504-6457\, but if I’m already at the beach\, I might not hear my phone. =)
URL:https://achev.org/event/beach-day-summers-beach-ventura-3/
LOCATION:Summer’s Beach Ventura\, is 2866-2868 Pacific Coast Highway\, Ventura\, United States
CATEGORIES:Beach Day
ORGANIZER;CN="Bonnie%20Adair":MAILTO:bonnieadair@verizon.net
END:VEVENT
BEGIN:VEVENT
DTSTART;TZID=America/Los_Angeles:20230831T093000
DTEND;TZID=America/Los_Angeles:20230831T130000
DTSTAMP:20260419T074634
CREATED:20230726T030219Z
LAST-MODIFIED:20230726T030219Z
UID:20791-1693474200-1693486800@achev.org
SUMMARY:Beach Day - Carpinteria
DESCRIPTION:Join us for beach time at Carpinteria City Beach at the end of Linden Ave (near the intersection of Linden and Sandyland). It’s best to look for free street parking\, but there is paid parking in the campground where the bathrooms are. \nHow to Find Us: If you park on Linden Ave\, walk to the end of the street (the street ends in a parking lot and there is a lifeguard tower right there and a hotel).  Walk straight out and to the left – we will plan to park our stuff in front of the volleyball courts\, but close to the water.  I will be there with my blue beach tent up\, a big blue beach blanket and my kids will have their body boards.  We are bringing a picnic lunch\, but there is a neat little burger stand within walking distance from the beach called “The Spot”.  We will bring a volleyball for the big kids that want to play. \nIt would be nice to know you are coming so we can look out for you.  Let me know if you are coming so we can try to be sure you find us!   You can rsvp by emailing bonnieadair@verizon.net or text me at 805-504-6457 \n 
URL:https://achev.org/event/beach-day-carpinteria-5/
LOCATION:Carpinteria City Beach\, Sea Lion Statue\, Carpinteria\, CA\, 93013\, United States
CATEGORIES:Beach Day
ORGANIZER;CN="Bonnie%20Adair":MAILTO:bonnieadair@verizon.net
END:VEVENT
END:VCALENDAR