BEGIN:VCALENDAR
VERSION:2.0
PRODID:-//ACHEV - ECPv6.2.0.1//NONSGML v1.0//EN
CALSCALE:GREGORIAN
METHOD:PUBLISH
X-ORIGINAL-URL:https://achev.org
X-WR-CALDESC:Events for ACHEV
REFRESH-INTERVAL;VALUE=DURATION:PT1H
X-Robots-Tag:noindex
X-PUBLISHED-TTL:PT1H
BEGIN:VTIMEZONE
TZID:America/Los_Angeles
BEGIN:DAYLIGHT
TZOFFSETFROM:-0800
TZOFFSETTO:-0700
TZNAME:PDT
DTSTART:20230312T100000
END:DAYLIGHT
BEGIN:STANDARD
TZOFFSETFROM:-0700
TZOFFSETTO:-0800
TZNAME:PST
DTSTART:20231105T090000
END:STANDARD
END:VTIMEZONE
BEGIN:VEVENT
DTSTART;TZID=America/Los_Angeles:20230706T130000
DTEND;TZID=America/Los_Angeles:20230706T160000
DTSTAMP:20260421T052036
CREATED:20230628T132742Z
LAST-MODIFIED:20230628T132742Z
UID:20674-1688648400-1688659200@achev.org
SUMMARY:Beach Day - Summer's Beach
DESCRIPTION:What: ACHEV Beach Day\, tots to teens!  The little kids like to play in the sand\, boogie board close to shore\, the older kids boogie board\, body surf\, dig holes and play sports on the sand.  We have a great time\, so please join us for fun\, fellowship\, and checking P.E. off your list =) \nWhere: Beach North of Emma Wood and just south of Solimar and South of Mondos.  It’s called Summer’s Beach – park for free along the highway.  Take the California State Beaches exit off the 101 fwy.   https://maps.apple.com/place?ll=34.306528\,-119.351567&q=Marked%20Location&_ext=EiQpJzQpTzwnQUAxBaWsEYDWXcA5JzQpTzwnQUBBBaWsEYDWXcA%3D&t=h  That is the marked location where we will meet.  There is a handicap ramp to take you down to the beach and a porta potty street side.  There should be a good deal of parking. \nHow to Find Us: Come Down the handicap ramp\, and if you are facing the water\, turn left and we will be close by on the left hand side (that’s the plan anyways).  You can look for my red SUV along the highway.  It’s a Subaru Ascent with a roof rack. \nDirections: The address at the marked location is 2866-2868 Pacific Coast Highway.  Take the California State Beaches exit off the 101 fwy. \nTide Forecast: https://www.surf-forecast.com/breaks/Solimar-Reef/tides/latest \nThe tide will be high at 1:26 pm.  It’s hard to know for sure\, but we may have to move up or down the beach a bit to find a dry spot.  Please text me to let me know if you will be coming so that we can be sure to find each other. 805-504-6457 \nLet me know if you plan to come so we can look out for you.  Can’t wait to see you there! Email bonnieadair@verizon.net or text me\, but if I’m already at the beach\, I might not hear my phone. =)
URL:https://achev.org/event/beach-day-summers-beach-9/
LOCATION:Summer’s Beach Ventura\, is 2866-2868 Pacific Coast Highway\, Ventura\, United States
CATEGORIES:Beach Day
END:VEVENT
BEGIN:VEVENT
DTSTART;TZID=America/Los_Angeles:20230713T100000
DTEND;TZID=America/Los_Angeles:20230713T130000
DTSTAMP:20260421T052036
CREATED:20230620T232824Z
LAST-MODIFIED:20230620T232824Z
UID:20651-1689242400-1689253200@achev.org
SUMMARY:Beach Day - Summer's Beach
DESCRIPTION:What: ACHEV Beach Day\, tots to teens!  The little kids like to play in the sand\, boogie board close to shore\, the older kids boogie board\, body surf\, dig holes and play sports on the sand.  We have a great time\, so please join us for fun\, fellowship\, and checking P.E. off your list =) \nWhere: Beach North of Emma Wood and just south of Solimar and South of Mondos.  It’s called Summer’s Beach – park for free along the highway.  Take the California State Beaches exit off the 101 fwy.   https://maps.apple.com/place?ll=34.306528\,-119.351567&q=Marked%20Location&_ext=EiQpJzQpTzwnQUAxBaWsEYDWXcA5JzQpTzwnQUBBBaWsEYDWXcA%3D&t=h  That is the marked location where we will meet.  There is a handicap ramp to take you down to the beach and a porta potty street side.  There should be a good deal of parking. \nHow to Find Us: Come Down the handicap ramp\, and if you are facing the water\, turn left and we will be close by on the left hand side (that’s the plan anyways).  You can look for my red SUV along the highway.  It’s a Subaru Ascent with a roof rack. \nDirections: The address at the marked location is 2866-2868 Pacific Coast Highway.  Take the California State Beaches exit off the 101 fwy. \nTide Forecast: https://www.surf-forecast.com/breaks/Solimar-Reef/tides/latest \nLet me know if you plan to come so we can look out for you.  Can’t wait to see you there! Email bonnieadair@verizon.net or text me\, but if I’m already at the beach\, I might not hear my phone. =)
URL:https://achev.org/event/beach-day-summers-beach-8/
LOCATION:Summer’s Beach Ventura\, is 2866-2868 Pacific Coast Highway\, Ventura\, United States
CATEGORIES:Beach Day
ORGANIZER;CN="Bonnie%20Adair":MAILTO:bonnieadair@verizon.net
END:VEVENT
BEGIN:VEVENT
DTSTART;TZID=America/Los_Angeles:20230720T093000
DTEND;TZID=America/Los_Angeles:20230720T130000
DTSTAMP:20260421T052036
CREATED:20230628T135131Z
LAST-MODIFIED:20230628T135131Z
UID:20681-1689845400-1689858000@achev.org
SUMMARY:Beach Day - Carpinteria
DESCRIPTION:Join us for beach time at Carpinteria City Beach at the end of Linden Ave (near the intersection of Linden and Sandyland). It’s best to look for free street parking\, but there is paid parking in the campground where the bathrooms are. \nHow to Find Us: If you park on Linden Ave\, walk to the end of the street (the street ends in a parking lot and there is a lifeguard tower right there and a hotel).  Walk straight out and to the left – we will plan to park our stuff in front of the volleyball courts\, but close to the water.  I will be there with my blue beach tent up\, a big blue beach blanket and my kids will have their body boards.  We are bringing a picnic lunch\, but there is a neat little burger stand within walking distance from the beach called “The Spot”.  We will bring a volleyball for the big kids that want to play. \nIt would be nice to know you are coming so we can look out for you.  Let me know if you are coming so we can try to be sure you find us!   You can rsvp by emailing bonnieadair@verizon.net or text me at 805-504-6457
URL:https://achev.org/event/beach-day-carpinteria-4/
LOCATION:Carpinteria City Beach\, Sea Lion Statue\, Carpinteria\, CA\, 93013\, United States
CATEGORIES:Beach Day
ORGANIZER;CN="Bonnie%20Adair":MAILTO:bonnieadair@verizon.net
END:VEVENT
BEGIN:VEVENT
DTSTART;TZID=America/Los_Angeles:20230727T100000
DTEND;TZID=America/Los_Angeles:20230727T130000
DTSTAMP:20260421T052036
CREATED:20230628T134144Z
LAST-MODIFIED:20230628T134144Z
UID:20676-1690452000-1690462800@achev.org
SUMMARY:Beach Day Summer's Beach
DESCRIPTION:What: ACHEV Beach Day\, tots to teens!  The little kids like to play in the sand\, boogie board close to shore\, the older kids boogie board\, body surf\, dig holes and play sports on the sand.  We have a great time\, so please join us for fun\, fellowship\, and checking P.E. off your list =) \nWhere: Beach North of Emma Wood and just south of Solimar and South of Mondos.  It’s called Summer’s Beach – park for free along the highway.  Take the California State Beaches exit off the 101 fwy.   https://maps.apple.com/place?ll=34.306528\,-119.351567&q=Marked%20Location&_ext=EiQpJzQpTzwnQUAxBaWsEYDWXcA5JzQpTzwnQUBBBaWsEYDWXcA%3D&t=h  That is the marked location where we will meet.  There is a handicap ramp to take you down to the beach and a porta potty street side.  There should be a good deal of parking. \nHow to Find Us: Come Down the handicap ramp\, and if you are facing the water\, turn left and we will be close by on the left hand side (that’s the plan anyways).  You can look for my red SUV along the highway.  It’s a Subaru Ascent with a roof rack. \nDirections: The address at the marked location is 2866-2868 Pacific Coast Highway.  Take the California State Beaches exit off the 101 fwy. \nTide Forecast: https://www.surf-forecast.com/breaks/Solimar-Reef/tides/latest \nLet me know if you plan to come so we can look out for you.  Can’t wait to see you there! Email bonnieadair@verizon.net or text me\, but if I’m already at the beach\, I might not hear my phone. =) 805-504-6457
URL:https://achev.org/event/beach-day-summers-beach-10/
LOCATION:Summer’s Beach Ventura\, is 2866-2868 Pacific Coast Highway\, Ventura\, United States
CATEGORIES:Beach Day
ORGANIZER;CN="Bonnie%20Adair":MAILTO:bonnieadair@verizon.net
END:VEVENT
END:VCALENDAR