BEGIN:VCALENDAR
VERSION:2.0
PRODID:-//ACHEV - ECPv6.2.0.1//NONSGML v1.0//EN
CALSCALE:GREGORIAN
METHOD:PUBLISH
X-WR-CALNAME:ACHEV
X-ORIGINAL-URL:https://achev.org
X-WR-CALDESC:Events for ACHEV
REFRESH-INTERVAL;VALUE=DURATION:PT1H
X-Robots-Tag:noindex
X-PUBLISHED-TTL:PT1H
BEGIN:VTIMEZONE
TZID:America/Los_Angeles
BEGIN:DAYLIGHT
TZOFFSETFROM:-0800
TZOFFSETTO:-0700
TZNAME:PDT
DTSTART:20220313T100000
END:DAYLIGHT
BEGIN:STANDARD
TZOFFSETFROM:-0700
TZOFFSETTO:-0800
TZNAME:PST
DTSTART:20221106T090000
END:STANDARD
END:VTIMEZONE
BEGIN:VEVENT
DTSTART;TZID=America/Los_Angeles:20220803T160000
DTEND;TZID=America/Los_Angeles:20220803T170000
DTSTAMP:20260419T081922
CREATED:20220720T231124Z
LAST-MODIFIED:20220720T233535Z
UID:8070-1659542400-1659546000@achev.org
SUMMARY:Ballroom Dance Classes Ages 12+
DESCRIPTION:What: Private ballroom dance classes for ACHEV at House of Dance – Lesson for 45 minutes\, dance practice to music for 15 minutes.  Each series is 4 weeks.  There are many fun dances to learn.  We are learning Waltz in August\, Foxtrot in September\, and then Oct-Dec we will be learning West Coast Swing.  In the new year\, we can do some Latin dances such as Tango\, Rumba\, and Samba.  We are open to changing up the dances depending on what the kids want to learn. \nWho: ACHEV and invited homeschooling friends ages 12 and up\, and recent ACHEV grads (see note on sign up sheet).  Please clear invited friends through Bonnie at bonnieadair@verizon.net.   We must have equal number boys and girls in order for the class to work.  We can keep a waitlist in case space opens up prior to the first class in a series.  Minimum of 4 boys and 4 girls in order to hold these classes.  Partners rotate throughout the class. \nWhere: House of Dance \, 3007 Bunsen Ave\, Ventura 93003   https://www.pmhouseofdance.com/ \nWhen: Wednesdays 4pm – 5:00 pm\nThere will be four classes per month. For months with five Wednesdays\, we will still only have 4 classes.   \n Cost: Each 4 week session will be $40 per student.  That is only 10 per lesson per student. \nSign up sheet HERE \nWe must have an even number of boys and girls.  Any girls in excess of boys\, or vice versa\, are considered to be on the waitlist.  We must have a minimum of 4 boys and 4 girls to proceed with the class. \nQuestions? Contact Bonnie Adair at bonnieadair@verizon.net. \n  \n\n							print
URL:https://achev.org/event/ballroom-dance-classes-ages-12/2022-08-03/
LOCATION:House of Dance\, 3007 Bunsen Ave\, Suite E\, Ventura\, CA\, 93003\, United States
CATEGORIES:Classes
ORGANIZER;CN="Bonnie%20Adair":MAILTO:bonnieadair@verizon.net
END:VEVENT
END:VCALENDAR